BEGIN:VCALENDAR
PRODID:NingEventWidget-v1
VERSION:2.0
METHOD:PUBLISH
BEGIN:VTIMEZONE
TZID:Pacific/Midway
X-LIC-LOCATION:Pacific/Midway
BEGIN:STANDARD
TZOFFSETFROM:-1100
TZOFFSETTO:-1100
TZNAME:SST
DTSTART:19700101T000000
END:STANDARD
END:VTIMEZONE
BEGIN:VEVENT
UID:2274639:Event:340560
DTSTAMP:20260423T085118Z
SUMMARY:2012 Pennsylvania Energy & Manufacturing Summit
DESCRIPTION:Please join us on September 10, 2012 for the Pennsylvania 
 Energy and Manufacturing Summit in Pittsburgh. Similar to CEA's Colora
 do and Gulf Coast Energy Summits held earlier this year, CEA is partne
 ring with DOW, Bayer Material Science, US Steel, the International Bro
 therhood of Electrical Workers Local 5 and the United Steelworkers to 
 bring together the presidential campaigns, elected officials, business
  and labor leaders and other key stakeholders and energy producers.   
 The non-partisan event will feature key government, labor and business
  leaders who will provide discussion and concrete examples of why it i
 s important to invest in industries, such as energy and manufacturing,
  which will lead to renewed American competitiveness. Please register 
 for the event at http://paenergymanufacturingsummit.eventbrite.com/.\n
 \nFor more information visit https://gomarcellusshale.com/events/2012-
 pennsylvania-energy-manufacturing-summit
DTSTART;TZID=Pacific/Midway:20120910T083000
DTEND;TZID=Pacific/Midway:20120910T121500
CATEGORIES:energy, "&", manufacturing, summit
LOCATION:Circuit Center
WEBSITE:http://www.flutedmushroom.com/circuit-center.htm
URL:http://www.flutedmushroom.com/circuit-center.htm
CONTACT:
ORGANIZER:Consumer Energy Alliance
ATTACH;FMTTYPE="image/jpeg":http://storage.ning.com/topology/rest/1.0/
 file/get/97599130?profile=original
ATTENDEE;ROLE=REQ-PARTICIPANT;PARTSTAT=ACCEPTED;RSVP=TRUE;CN="Kristin 
 Marcell":https://gomarcellusshale.com/profile/KristinMarcell
END:VEVENT
END:VCALENDAR
