BEGIN:VCALENDAR
PRODID:NingEventWidget-v1
VERSION:2.0
METHOD:PUBLISH
BEGIN:VTIMEZONE
TZID:Pacific/Midway
X-LIC-LOCATION:Pacific/Midway
BEGIN:STANDARD
TZOFFSETFROM:-1100
TZOFFSETTO:-1100
TZNAME:SST
DTSTART:19700101T000000
END:STANDARD
END:VTIMEZONE
BEGIN:VEVENT
UID:2274639:Event:215184
DTSTAMP:20260425T001236Z
SUMMARY:2012 USACOE Nationwide Permits Updates & Review
DESCRIPTION:On March 18, 2012 the current US Army Corp of Engineers 20
 08 Nationwide permits are set to expire. The 2012 permits have been ou
 t for public comment and are soon to be released. This workshop will c
 over all the new and proposed Nationwide permits. Some of the highligh
 ts we will discuss are the new coal mining permit (NW50) and the land 
 based (NW-A) and water based (NW-B) permits for renewable energy sourc
 es.  Get up to speed with this mini course on the new 2012 US Army Cor
 ps of Engineers Permits today. The workshop will be presented as a liv
 e webinar and is accessible anywhere you have internet. It is fully PC
  and Mac compatible. The workshop is live so you will have an opportun
 ity to ask question and participate.  Hurry, webinar space is limited.
    Sign up today==> http://bit.ly/rKt4d6  Registration Fee: $47.00 D
 ate: March 1, 2012 Time: 11AM – 1 PM EST  Continuing education credi
 ts are available. Please call 1-877-479-2672 or email info@swampschool
 .org if you have any questions.\n\nFor more information visit https://
 gomarcellusshale.com/events/2012-usacoe-nationwide-permits-updates-rev
 iew
DTSTART;TZID=Pacific/Midway:20120301T110000
DTEND;TZID=Pacific/Midway:20120301T130000
CATEGORIES:webinar
LOCATION:Online
WEBSITE:http://swampschool.org/new/2012-nationwide-wetland-permit-webi
 nar/
URL:http://swampschool.org/new/2012-nationwide-wetland-permit-webinar/
CONTACT:1-877-479-2673
ORGANIZER;CN="Marc Seelinger":https://gomarcellusshale.com/profile/Mar
 cSeelinger
ATTACH;FMTTYPE="image/jpeg":http://storage.ning.com/topology/rest/1.0/
 file/get/97592296?profile=original
ATTENDEE;ROLE=REQ-PARTICIPANT;PARTSTAT=ACCEPTED;RSVP=TRUE;CN="Marc See
 linger":https://gomarcellusshale.com/profile/MarcSeelinger
END:VEVENT
END:VCALENDAR
