BEGIN:VCALENDAR
PRODID:NingEventWidget-v1
VERSION:2.0
METHOD:PUBLISH
BEGIN:VTIMEZONE
TZID:Pacific/Midway
X-LIC-LOCATION:Pacific/Midway
BEGIN:STANDARD
TZOFFSETFROM:-1100
TZOFFSETTO:-1100
TZNAME:SST
DTSTART:19700101T000000
END:STANDARD
END:VTIMEZONE
BEGIN:VEVENT
UID:2274639:Event:217578
DTSTAMP:20260425T061653Z
SUMMARY:2012 Wetland Delineation Updates – 1 Day Seminar
DESCRIPTION:Date:  February 8, 2012 Time:  9 AM to 4 PM Location:  
 Williamsport, Pennsylvania Tuition:  $247.00  This live classroom sem
 inar is designed to get you up to speed on all the latest changes to t
 he US Army Corps of Engineers Wetland Delineation Manual and the Regio
 nal Supplements.  Topics covered in this class include:  Vegetation U
 pdates to the National List of Wetland Plants Plant Math – How to ca
 lculate: Dominance Test  50/20 rule Prevalence Index Morphological Ada
 ptations FAC-Neutral Test And more  Hydrolgy Updates to the Hydrology 
 Indicators Type A, B, C, and D indicators Updates to the Primary versu
 s Secondary Indicators Importance of new soil indicators  The NEW soil
  indicators A,S and F indicators types Carbon, Sulfur and Iron Indicat
 ors The Importance of Oxidized Rhizospheres  Jurisdictional Issues  Wa
 ters of the US Supreme Court Cases Normal Circumstances The Stockton R
 ule EPA’s New Enforcement Role President Obama’s Clean Water Frame
 work What this means to delineation And much more  Join us for this on
 e-day seminar and get up to date on all the latest technical and regul
 atory developments.  This class is idea for experienced wetland delin
 eators as well as those just entering the field.  http://swampschool.o
 rg/classes/2012-wetland-delineation-updates-1-day-seminar/\n\nFor more
  information visit https://gomarcellusshale.com/events/2012-wetland-de
 lineation-updates-1-day-seminar
DTSTART;TZID=Pacific/Midway:20120208T090000
DTEND;TZID=Pacific/Midway:20120208T160000
CATEGORIES:seminar
LOCATION:Williamsport, PA
WEBSITE:http://swampschool.org/classes/2012-wetland-delineation-update
 s-1-day-seminar/
URL:http://swampschool.org/classes/2012-wetland-delineation-updates-1-
 day-seminar/
CONTACT:1-877-479-2673
ORGANIZER:The Swamp School
ATTACH;FMTTYPE="image/jpeg":http://storage.ning.com/topology/rest/1.0/
 file/get/97592684?profile=original
ATTENDEE;ROLE=REQ-PARTICIPANT;PARTSTAT=ACCEPTED;RSVP=TRUE;CN="Marc See
 linger":https://gomarcellusshale.com/profile/MarcSeelinger
END:VEVENT
END:VCALENDAR
