BEGIN:VCALENDAR
PRODID:NingEventWidget-v1
VERSION:2.0
METHOD:PUBLISH
BEGIN:VTIMEZONE
TZID:Pacific/Midway
X-LIC-LOCATION:Pacific/Midway
BEGIN:STANDARD
TZOFFSETFROM:-1100
TZOFFSETTO:-1100
TZNAME:SST
DTSTART:19700101T000000
END:STANDARD
END:VTIMEZONE
BEGIN:VEVENT
UID:2274639:Event:228875
DTSTAMP:20260425T044743Z
SUMMARY:2012 Wetland Delineation Updates - New Session Opening
DESCRIPTION: Date: February 9, 2012\n Time: 9 AM to 4 PM\n Location: W
 illiamsport, Pennsylvania\n Tuition: $247.00\n\n \nThis live classroo
 m seminar is designed to get you up to speed on all the latest changes
  to the US Army Corps of Engineers Wetland Delineation Manual and the 
 Regional Supplements. Topics covered in this class include:\n Vegetati
 on\n\n Updates to the National List of Wetland Plants\n Plant Math –
  How to calculate:\n\n\n Dominance Test\n 50/20 rule\n Prevalence Inde
 x\n Morphological Adaptations\n FAC-Neutral Test\n And more\n\n Hydrol
 gy\n\n Updates to the Hydrology Indicators\n Type A, B, C, and D indic
 ators\n Updates to the Primary versus Secondary Indicators\n Importanc
 e of new soil indicators\n\n Soils\n\n The NEW soil indicators\n A, S 
 and F indicators types\n Carbon, Sulfur and Iron Indicators\n The Impo
 rtance of Oxidized Rhizospheres\n\n Jurisdictional Issues\n\n Waters o
 f the US\n Supreme Court Cases\n Normal Circumstances\n The Stockton R
 ule\n EPA’s New Enforcement Role\n President Obama’s Clean Water F
 ramework\n What this means to delineation\n And much more\n\n \n Join 
 us for this one-day seminar and get up to date on all the latest techn
 ical and regulatory developments. This class is idea for experienced w
 etland delineators as well as those just entering the field.\n\nVisit 
 our website for more information:http://swampschool.org/classes/2012-w
 etland-delineation-updates-1-day-seminar/or give us a call at 1-877-47
 9-2673\n\nFor more information visit https://gomarcellusshale.com/even
 ts/2012-wetland-delineation-updates-new-session-opening
DTSTART;TZID=Pacific/Midway:20120209T090000
DTEND;TZID=Pacific/Midway:20120209T160000
CATEGORIES:training, workshop
LOCATION:Williamsport, PA
WEBSITE:http://swampschool.org
URL:http://swampschool.org
CONTACT:1-877-479-2673
ORGANIZER;CN="Marc Seelinger":https://gomarcellusshale.com/profile/Mar
 cSeelinger
ATTACH;FMTTYPE="image/jpeg":http://storage.ning.com/topology/rest/1.0/
 file/get/97593348?profile=original
ATTENDEE;ROLE=REQ-PARTICIPANT;PARTSTAT=ACCEPTED;RSVP=TRUE;CN="Marc See
 linger":https://gomarcellusshale.com/profile/MarcSeelinger
END:VEVENT
END:VCALENDAR
