BEGIN:VCALENDAR
PRODID:NingEventWidget-v1
VERSION:2.0
METHOD:PUBLISH
BEGIN:VTIMEZONE
TZID:Pacific/Midway
X-LIC-LOCATION:Pacific/Midway
BEGIN:STANDARD
TZOFFSETFROM:-1100
TZOFFSETTO:-1100
TZNAME:SST
DTSTART:19700101T000000
END:STANDARD
END:VTIMEZONE
BEGIN:VEVENT
UID:2274639:Event:201607
DTSTAMP:20260425T085855Z
SUMMARY:2012 Wetland Status and Trends
DESCRIPTION:2012 Wetland Status and Trends\nLocation: Live and Online 
 Date: January 10, 2012 Time: 11 AM - 3 PM EST Tuition: $97\n The Swamp
  School is pleased to announce that it will be sponsoring the 2012 Wet
 land Status and Trends Conference on January 10, 2012. The new year st
 arts will some major announcements regarding wetland identification an
 d regulation. This conference will present the latest updates to the w
 etland delineation approaches as well as news on the changes to the Cl
 ean Water Act and Jurisdictional Determinations.\n\nThis conference is
  focused on the regulatory aspect of wetland delineation and is perfec
 t for anyone who needs to get up to speed on the new wetland programs.
  Its major highlights include:\n\nThe new draft USACOE/EPA Clean Water
  Protection Guidance\nUpdates on the Rapanos “decision”\nThe Obama
  Administration Clean Water Act Policy\nThe Barrasso-Heller Amendment\
 nThe Stockton “rule”\nThe status of the Regional Supplements\nNatu
 ral gas exploration\nPlus much more!\n\nIf you are a property manager,
  plant manager, engineer, surveyor, developer, architect, scientist, u
 tility manager, geologist, environmental scientist, real estate agent,
  or anyone else whose interest is in land development you need to part
 icipate in this conference!\nThis four-hour conference will be present
 ed live, online and is interactive. Participants will be able ask ques
 tions and engage with the conference in real-time. It is PC/Mac compat
 ible. It will be recorded for access at a later date. Sign up today to
  reserve your spot.\nContinuing education credit may be available. Ple
 ase contact us at 1-877-479-2673 if you need continuing education cred
 it.\nSign-up today to reserve your spot.\nHurry space is limited!\n\n
 \n\nFor more information visit https://gomarcellusshale.com/events/20
 12-wetland-status-and-trends
DTSTART;TZID=Pacific/Midway:20120110T110000
DTEND;TZID=Pacific/Midway:20120110T150000
CATEGORIES:workshop
LOCATION:Live and Online
WEBSITE:http://swampschool.org/new/2012-wetland-status-and-trends/
URL:http://swampschool.org/new/2012-wetland-status-and-trends/
CONTACT:877-479-2673
ORGANIZER;CN="Marc Seelinger":https://gomarcellusshale.com/profile/Mar
 cSeelinger
ATTACH;FMTTYPE="image/jpeg":http://storage.ning.com/topology/rest/1.0/
 file/get/97591619?profile=original
ATTENDEE;ROLE=REQ-PARTICIPANT;PARTSTAT=ACCEPTED;RSVP=TRUE;CN="Marc See
 linger":https://gomarcellusshale.com/profile/MarcSeelinger
END:VEVENT
END:VCALENDAR
