BEGIN:VCALENDAR
PRODID:NingEventWidget-v1
VERSION:2.0
METHOD:PUBLISH
BEGIN:VTIMEZONE
TZID:Pacific/Midway
X-LIC-LOCATION:Pacific/Midway
BEGIN:STANDARD
TZOFFSETFROM:-1100
TZOFFSETTO:-1100
TZNAME:SST
DTSTART:19700101T000000
END:STANDARD
END:VTIMEZONE
BEGIN:VEVENT
UID:2274639:Event:400943
DTSTAMP:20260420T050736Z
SUMMARY:2013 NARO PA Annual Meeting and Convention
DESCRIPTION:National Association of Royalty Owners Pennsylvania Chapte
 r to host 3rd Annual Meeting and Convention. View brochure and registe
 r at www.naro-us.org/events.\n\nThe morning will feature nine differen
 t sessions to choose from covering Mineral Management basics, shut-in 
 royalty clauses and the implied covenant to market, handling disputes 
 between the lessor and lessee, 2013 tax planning  for mineral owners
 , how to keep mineral interests in the family, trusts for owners of mi
 neral interests, natural gas composition and working interest insight.
 \n\nView the full schedule - http://www.naro-us.org/Resources/NARO%20P
 A/PA%202013%20Convention/2013%20Brochure%20Schedule.pdf \n\nFor more 
 information visit https://gomarcellusshale.com/events/2013-naro-pa-ann
 ual-meeting-and-convention
DTSTART;TZID=Pacific/Midway:20130328T180000
DTEND;TZID=Pacific/Midway:20130329T190000
CATEGORIES:mineral, owner, education
LOCATION:Ramada Conference Center, State College, PA
WEBSITE:http://ramadasc.com/
URL:http://ramadasc.com/
CONTACT:814-238-3001
ORGANIZER;CN="Jackie Root-CMM":https://gomarcellusshale.com/profile/Ja
 ckieRoot
ATTACH;FMTTYPE="image/jpeg":
ATTENDEE;ROLE=REQ-PARTICIPANT;PARTSTAT=ACCEPTED;RSVP=TRUE;CN="Jackie R
 oot-CMM":https://gomarcellusshale.com/profile/JackieRoot
ATTENDEE;ROLE=REQ-PARTICIPANT;PARTSTAT=TENTATIVE;RSVP=TRUE;CN="Chris C
 rawley":https://gomarcellusshale.com/profile/ChrisCrawley
ATTENDEE;ROLE=REQ-PARTICIPANT;PARTSTAT=TENTATIVE;RSVP=TRUE;CN="John Sm
 ith":https://gomarcellusshale.com/profile/JohnSmith870
ATTENDEE;ROLE=REQ-PARTICIPANT;PARTSTAT=TENTATIVE;RSVP=TRUE;CN="Keith M
 auck (Site Publisher)":https://gomarcellusshale.com/profile/marcellus_
 shale
END:VEVENT
END:VCALENDAR
