BEGIN:VCALENDAR
PRODID:NingEventWidget-v1
VERSION:2.0
METHOD:PUBLISH
BEGIN:VTIMEZONE
TZID:Pacific/Midway
X-LIC-LOCATION:Pacific/Midway
BEGIN:STANDARD
TZOFFSETFROM:-1100
TZOFFSETTO:-1100
TZNAME:SST
DTSTART:19700101T000000
END:STANDARD
END:VTIMEZONE
BEGIN:VEVENT
UID:2274639:Event:506139
DTSTAMP:20260420T084947Z
SUMMARY:2013 Shale Landowners Forum
DESCRIPTION:2013%20Annual%20Landowners%20Forum.pdf\n\nFor more informa
 tion visit https://gomarcellusshale.com/events/2013-shale-landowners-f
 orum
DTSTART;TZID=Pacific/Midway:20131026T100000
DTEND;TZID=Pacific/Midway:20131026T160000
CATEGORIES:forum, exclusively, for, landowners
LOCATION:Four Points Sheraton, Cranberry Twp., PA
WEBSITE:http://www.shaleadvice.com/land-owners-meetings/2013-annual-la
 ndowners-forum/
URL:http://www.shaleadvice.com/land-owners-meetings/2013-annual-landow
 ners-forum/
CONTACT:855-534-7788
ORGANIZER;CN="ShaleAdvice (Steven C. Townsend)":https://gomarcellussha
 le.com/profile/StevenCTownsend
ATTACH;FMTTYPE="image/jpeg":http://storage.ning.com/topology/rest/1.0/
 file/get/97606212?profile=original
ATTENDEE;ROLE=REQ-PARTICIPANT;PARTSTAT=ACCEPTED;RSVP=TRUE;CN="ShaleAdv
 ice (Steven C. Townsend)":https://gomarcellusshale.com/profile/StevenC
 Townsend
ATTENDEE;ROLE=REQ-PARTICIPANT;PARTSTAT=TENTATIVE;RSVP=TRUE;CN="Ron Muh
 lenkamp":https://gomarcellusshale.com/profile/RonMuhlenkamp
END:VEVENT
END:VCALENDAR
