BEGIN:VCALENDAR
PRODID:NingEventWidget-v1
VERSION:2.0
METHOD:PUBLISH
BEGIN:VTIMEZONE
TZID:Pacific/Midway
X-LIC-LOCATION:Pacific/Midway
BEGIN:STANDARD
TZOFFSETFROM:-1100
TZOFFSETTO:-1100
TZNAME:SST
DTSTART:19700101T000000
END:STANDARD
END:VTIMEZONE
BEGIN:VEVENT
UID:2274639:Event:562479
DTSTAMP:20260423T190746Z
SUMMARY:2014 Waters of the US Webinar | New EPA/Corps Rules
DESCRIPTION:2014 Waters of the US Webinar | New EPA/Corps RulesThe wor
 kshop dates:April 22, 2014 (Earth Day) at 1 PM EDTMay 6, 2014 at 10 AM
  EDTMay 15, 2014 at 3 PM EDTWASHINGTON, DC.  On Tuesday, March 25, 20
 14 the US EPA and the US Army Corps of Engineers announced the prepubl
 ication of the new “Definition of Waters of the United States under 
 the Clean Water Act.”  This new rule should be published in the Fed
 eral Register very soon and has a Docket No. EPA-HQ-OW- 2011-0880.To h
 elp you better understand the implications of these new rules and also
  to help you avoid reading 370 pages of mind numbing text, we are offe
 ring a series of live, interactive webinars.  In less than two hours 
 we will cover topics such as:*  Are onsite wetland delineations a thi
 ng of the past?*  When is a ditch a waters of the US?*  Whatever hap
 pened to the commerce clause?*  How far beyond the ordinary high wate
 r (OHW) mark is considered jurisdictional?*  What agricultural exempt
 ions will remain?*  Plus a whole lot more!Industries that are directl
 y affected by this new rule include anyone who owns, works on, or plan
 s to develop land including:*   Utility Transmission*   Energy Exp
 loration and Development*   Real Estate Development*   Agriculture
 *   Homebuilders*   Plus, anyone who wants to build a deck, shed, 
 driveway or swimming pool on their propertyWe are offering series of o
 nline webinars at various times and dates to make sure that you can at
 tend.   The public comment period for these ends 90-days from the da
 te of publication in the Federal Register.  We want to make sure that
  you have a chance to educate yourself about these rules before this c
 omment period closes.  We will be adding more sessions as demand requ
 ires.Lastly, exercise your American rights and please provide comments
  to these rules.  Go to regulations.gov and enter in EPA-HQ-OW- 2011-
 0880 in the search box.  As soon as the regulations are published you
  will be able to provide comments.  In many places the EPA and Corps 
 are specifically soliciting comments about various aspects of this new
  rule.   Pay particular attention to the change from routine field w
 etland delineations to a desktop analysis found on page 29.  This cou
 ld have a significant impact to your wetland delineation business.For 
 more information, please visit our website at:  http://SwampSchool.or
 gOr give us a call at 1-877-479-2673\n\nFor more information visit htt
 ps://gomarcellusshale.com/events/2014-waters-of-the-us-webinar-new-epa
 -corps-rules-2
DTSTART;TZID=Pacific/Midway:20140515T150000
DTEND;TZID=Pacific/Midway:20140515T170000
CATEGORIES:webinar
LOCATION:Online Interactive Webinar
WEBSITE:https://swampschool.infusionsoft.com/app/storeFront/showProduc
 tDetail?productId=405
URL:https://swampschool.infusionsoft.com/app/storeFront/showProductDet
 ail?productId=405
CONTACT:1-877-479-2673
ORGANIZER;CN="Marc Seelinger":https://gomarcellusshale.com/profile/Mar
 cSeelinger
ATTACH;FMTTYPE="image/jpeg":http://storage.ning.com/topology/rest/1.0/
 file/get/97608850?profile=original
ATTENDEE;ROLE=REQ-PARTICIPANT;PARTSTAT=ACCEPTED;RSVP=TRUE;CN="Marc See
 linger":https://gomarcellusshale.com/profile/MarcSeelinger
END:VEVENT
END:VCALENDAR
