BEGIN:VCALENDAR
PRODID:NingEventWidget-v1
VERSION:2.0
METHOD:PUBLISH
BEGIN:VTIMEZONE
TZID:Pacific/Midway
X-LIC-LOCATION:Pacific/Midway
BEGIN:STANDARD
TZOFFSETFROM:-1100
TZOFFSETTO:-1100
TZNAME:SST
DTSTART:19700101T000000
END:STANDARD
END:VTIMEZONE
BEGIN:VEVENT
UID:2274639:Event:562472
DTSTAMP:20260423T120803Z
SUMMARY:2014 Waters of the US Webinar | New EPA/Corps Rules
DESCRIPTION:2014 Waters of the US Webinar | New EPA/Corps Rules  The w
 orkshop dates:  April 22, 2014 (Earth Day) at 1 PM EDT May 6, 2014 at 
 10 AM EDT May 15, 2014 at 3 PM EDT   WASHINGTON, DC.  On Tuesday, Mar
 ch 25, 2014 the US EPA and the US Army Corps of Engineers announced th
 e prepublication of the new “Definition of Waters of the United Stat
 es under the Clean Water Act.”  This new rule should be published i
 n the Federal Register very soon and has a Docket No. EPA-HQ-OW- 2011-
 0880.  To help you better understand the implications of these new rul
 es and also to help you avoid reading 370 pages of mind numbing text, 
 we are offering a series of live, interactive webinars.  In less than
  two hours we will cover topics such as:  *  Are onsite wetland delin
 eations a thing of the past? *  When is a ditch a waters of the US? *
   Whatever happened to the commerce clause? *  How far beyond the or
 dinary high water (OHW) mark is considered jurisdictional? *  What ag
 ricultural exemptions will remain? *  Plus a whole lot more!  Industr
 ies that are directly affected by this new rule include anyone who own
 s, works on, or plans to develop land including:  *   Utility Transm
 ission *   Energy Exploration and Development *   Real Estate Deve
 lopment *   Agriculture *   Homebuilders *   Plus, anyone who wa
 nts to build a deck, shed, driveway or swimming pool on their property
   We are offering series of online webinars at various times and dates
  to make sure that you can attend.   The public comment period for t
 hese ends 90-days from the date of publication in the Federal Register
 .  We want to make sure that you have a chance to educate yourself ab
 out these rules before this comment period closes.  We will be adding
  more sessions as demand requires.  Lastly, exercise your American rig
 hts and please provide comments to these rules.  Go to regulations.go
 v and enter in EPA-HQ-OW- 2011-0880 in the search box.  As soon as th
 e regulations are published you will be able to provide comments.  In
  many places the EPA and Corps are specifically soliciting comments ab
 out various aspects of this new rule.   Pay particular attention to 
 the change from routine field wetland delineations to a desktop analys
 is found on page 29.  This could have a significant impact to your we
 tland delineation business.  For more information, please visit our we
 bsite at:  http://SwampSchool.org Or give us a call at 1-877-479-2673
 \n\nFor more information visit https://gomarcellusshale.com/events/201
 4-waters-of-the-us-webinar-new-epa-corps-rules
DTSTART;TZID=Pacific/Midway:20140422T130000
DTEND;TZID=Pacific/Midway:20140422T150000
CATEGORIES:webinar
LOCATION:Online Interactive Webinar
WEBSITE:https://swampschool.infusionsoft.com/app/storeFront/showProduc
 tDetail?productId=401
URL:https://swampschool.infusionsoft.com/app/storeFront/showProductDet
 ail?productId=401
CONTACT:1-877-479-2673
ORGANIZER;CN="Marc Seelinger":https://gomarcellusshale.com/profile/Mar
 cSeelinger
ATTACH;FMTTYPE="image/jpeg":http://storage.ning.com/topology/rest/1.0/
 file/get/97608963?profile=original
ATTENDEE;ROLE=REQ-PARTICIPANT;PARTSTAT=ACCEPTED;RSVP=TRUE;CN="Marc See
 linger":https://gomarcellusshale.com/profile/MarcSeelinger
END:VEVENT
END:VCALENDAR
