BEGIN:VCALENDAR
PRODID:NingEventWidget-v1
VERSION:2.0
METHOD:PUBLISH
BEGIN:VTIMEZONE
TZID:Pacific/Midway
X-LIC-LOCATION:Pacific/Midway
BEGIN:STANDARD
TZOFFSETFROM:-1100
TZOFFSETTO:-1100
TZNAME:SST
DTSTART:19700101T000000
END:STANDARD
END:VTIMEZONE
BEGIN:VEVENT
UID:2274639:Event:736880
DTSTAMP:20260425T071005Z
SUMMARY:2016 Wetlands, Waters, Permits, & Courts
DESCRIPTION:2016 has already been a very busy wetland regulation year.
  Since January the Sixth U.S. Circuit Court of Appeals has had additio
 nal rulings on the proposed Clean Water Rule. The US Army Corps of Eng
 ineers has released its proposed Nationwide Permits for 2017. The US S
 upreme Court has decided a very important Jurisdictional Determination
  case. We have even had a recent out of court settlement that required
  public comment with the EPA over a farm pond issue with national impl
 ications. To add to this confusion Supreme Court Justice Anthony Kenne
 dy recently called the Clean Water Act \"arguably unconstitutionally v
 ague.\"\n Before we wade in any deeper into 2016, we thought it might 
 be appropriate to host a mid-year webinar on these topics and a few mo
 re. Don't forget we also have a new National Wetland Plant list to wor
 k with.\n\nWe also added a new feature to this webinar. By now you may
  already have questions and insights about these new wetland and water
 s issues. We will invite you to send us these thoughts ahead of the we
 binar so that we will be able to incorporate them into the discussion.
  A special discussion portal will be provided in advance that you can 
 not only send us you topics but also discuss them with your peers befo
 re and after the webinar.\n\nJoin us on July 7, 2016 at 1 PM EDT to pa
 rticipate in this important webinar. Don't worry if you can't make the
  live broadcast. A recorded version will be made available to everyone
  who registers for the live session and will remain active for 30 days
 .\nRegister Here\n​\n\nFor more information visit https://gomarcellu
 sshale.com/events/2016-wetlands-waters-permits-courts
DTSTART;TZID=Pacific/Midway:20160707T130000
DTEND;TZID=Pacific/Midway:20160707T150000
CATEGORIES:webinar
LOCATION:Online
WEBSITE:https://swampschool.infusionsoft.com/app/storeFront/showProduc
 tDetail?productId=661
URL:https://swampschool.infusionsoft.com/app/storeFront/showProductDet
 ail?productId=661
CONTACT:877-479-2673
ORGANIZER:The Swamp School
ATTACH;FMTTYPE="image/jpeg":http://storage.ning.com/topology/rest/1.0/
 file/get/97618179?profile=original
ATTENDEE;ROLE=REQ-PARTICIPANT;PARTSTAT=ACCEPTED;RSVP=TRUE;CN="Marc See
 linger":https://gomarcellusshale.com/profile/MarcSeelinger
END:VEVENT
END:VCALENDAR
