BEGIN:VCALENDAR
PRODID:NingEventWidget-v1
VERSION:2.0
METHOD:PUBLISH
BEGIN:VTIMEZONE
TZID:Pacific/Midway
X-LIC-LOCATION:Pacific/Midway
BEGIN:STANDARD
TZOFFSETFROM:-1100
TZOFFSETTO:-1100
TZNAME:SST
DTSTART:19700101T000000
END:STANDARD
END:VTIMEZONE
BEGIN:VEVENT
UID:2274639:Event:25430
DTSTAMP:20260425T095755Z
SUMMARY:2nd Annual Energy Fair
DESCRIPTION:Marcellus Shale Update by East Resources\nGeothermal Heati
 ng by Schoonover\nSolar Energy by Jeff Weaver\nAlternative Energy - Da
 ve Shimmel\nEnergy Efficiency by PUC Wayne Gardner\n\nFor more informa
 tion visit https://gomarcellusshale.com/events/2nd-annual-energy-fair
DTSTART;TZID=Pacific/Midway:20100327T090000
DTEND;TZID=Pacific/Midway:20100327T150000
CATEGORIES:energy, fair
LOCATION:Wellsboro High School
WEBSITE:
URL:
CONTACT:570-724-3516
ORGANIZER:Wellsboro Electric
ATTACH;FMTTYPE="image/jpeg":
ATTENDEE;ROLE=REQ-PARTICIPANT;PARTSTAT=ACCEPTED;RSVP=TRUE;CN="Don Imbi
 mbo":https://gomarcellusshale.com/profile/DonImbimbo
END:VEVENT
END:VCALENDAR
