BEGIN:VCALENDAR
PRODID:NingEventWidget-v1
VERSION:2.0
METHOD:PUBLISH
BEGIN:VTIMEZONE
TZID:Pacific/Midway
X-LIC-LOCATION:Pacific/Midway
BEGIN:STANDARD
TZOFFSETFROM:-1100
TZOFFSETTO:-1100
TZNAME:SST
DTSTART:19700101T000000
END:STANDARD
END:VTIMEZONE
BEGIN:VEVENT
UID:2274639:Event:474622
DTSTAMP:20260420T102131Z
SUMMARY:2nd Annual Gas Asia Summit (GAS), Conference & Workshop
DESCRIPTION:Creating Integrated and Sustainable Gas Markets to Fuel As
 ia\nTaking place from 30 October to 1 November as part of Singapore In
 ternational Energy Week (SIEW), the 2nd Annual Gas Asia Summit (GAS) i
 s the leading and only regionally-focused natural gas and LNG conferen
 ce within the SIEW.\n \nFeaturing a two day conference followed by a 
 one day workshop, GAS offers an unmissable insight into the components
  of Asia’s LNG and natural gas industry. Hear from leading internati
 onal and regional industry thought leaders as they address project fin
 ance, infrastructure, project & resource development, contracts and LN
 G trade, and the applications for natural gas and LNG in Asia. For mor
 e information please visit www.gasasiasummit.com\n \n\nFor more infor
 mation visit https://gomarcellusshale.com/events/2nd-annual-gas-asia-s
 ummit-gas-conference-workshop
DTSTART;TZID=Pacific/Midway:20131030T090000
DTEND;TZID=Pacific/Midway:20131101T171500
CATEGORIES:conference, "&", workshop
LOCATION:10 Marina Bay Sands, Singapore 018956
WEBSITE:http://www.gasasiasummit.com/
URL:http://www.gasasiasummit.com/
CONTACT:
ORGANIZER:Michael Cluskey
ATTACH;FMTTYPE="image/jpeg":http://storage.ning.com/topology/rest/1.0/
 file/get/97604523?profile=original
ATTENDEE;ROLE=REQ-PARTICIPANT;PARTSTAT=ACCEPTED;RSVP=TRUE;CN="Laurence
  Allen":https://gomarcellusshale.com/profile/LaurenceAllen512
END:VEVENT
END:VCALENDAR
