BEGIN:VCALENDAR
PRODID:NingEventWidget-v1
VERSION:2.0
METHOD:PUBLISH
BEGIN:VTIMEZONE
TZID:Pacific/Midway
X-LIC-LOCATION:Pacific/Midway
BEGIN:STANDARD
TZOFFSETFROM:-1100
TZOFFSETTO:-1100
TZNAME:SST
DTSTART:19700101T000000
END:STANDARD
END:VTIMEZONE
BEGIN:VEVENT
UID:2274639:Event:666359
DTSTAMP:20260424T152038Z
SUMMARY:5th  NARO PA Annual Meeting and Convention
DESCRIPTION:The National Association of Royalty Owners PA Chapter is a
  great way to interact with other royalty owners who  actively partic
 ipate in their mineral ownership. Don’t miss the 2015 Convention, h
 ear the latest on Utica Shale, royalty litigation and arbitration, PA 
 oil and gas case law, what's new in regulation, pipeline ROW negotiati
 ons and eminent domain, pipeline projects, LNG progress, news from Har
 risburg and Washington, financial planning, Mineral Management 101 and
  more... Once again we will offer CMM training/testing and our 2nd rou
 nd table discussion for royalty owners will happen the evening of the 
 25th. This is the hottest mineral owner event in the state, don't miss
  it!\n\nFor more information visit https://gomarcellusshale.com/events
 /5th-naro-pa-annual-meeting-and-convention
DTSTART;TZID=Pacific/Midway:20150326T000000
DTEND;TZID=Pacific/Midway:20150327T235900
CATEGORIES:mineral, owner, education, convention, landowner
LOCATION:The Ramada Conference Center
WEBSITE:http://www.ramadasc.com
URL:http://www.ramadasc.com
CONTACT:800-558-0557
ORGANIZER:Jackie Root- NARO PA Chapter President
ATTACH;FMTTYPE="image/jpeg":http://storage.ning.com/topology/rest/1.0/
 file/get/97614503?profile=original
ATTENDEE;ROLE=REQ-PARTICIPANT;PARTSTAT=ACCEPTED;RSVP=TRUE;CN="Cynthia 
 Simonds":https://gomarcellusshale.com/profile/CynthiaSimonds
ATTENDEE;ROLE=REQ-PARTICIPANT;PARTSTAT=ACCEPTED;RSVP=TRUE;CN="Janice L
 . Hancharick":https://gomarcellusshale.com/profile/JaniceLHancharick
ATTENDEE;ROLE=REQ-PARTICIPANT;PARTSTAT=ACCEPTED;RSVP=TRUE;CN="Jackie R
 oot-CMM":https://gomarcellusshale.com/profile/JackieRoot
END:VEVENT
END:VCALENDAR
