BEGIN:VCALENDAR
PRODID:NingEventWidget-v1
VERSION:2.0
METHOD:PUBLISH
BEGIN:VTIMEZONE
TZID:Pacific/Midway
X-LIC-LOCATION:Pacific/Midway
BEGIN:STANDARD
TZOFFSETFROM:-1100
TZOFFSETTO:-1100
TZNAME:SST
DTSTART:19700101T000000
END:STANDARD
END:VTIMEZONE
BEGIN:VEVENT
UID:2274639:Event:760037
DTSTAMP:20260425T172922Z
SUMMARY:6th Annual Cost-Effective Produced Water Management Initiative
  2017
DESCRIPTION:6th Annual Cost-Effective Produced Water Management Initia
 tive 2017\r\n\r\n<style=\"font-size: 1.17em;\"=\"\">Delivering E&P Str
 ategies From Core Rocky Mountain Plays To Cost-Effectively Handle Wate
 r Over The Full Life Of The Well, From Sourcing To Disposal.\r\n\r\nRe
 ad more: http://www.produced-water-management-rockies.com/?utm_source=
 American_Energy_Comunications&utm_medium=Banner&utm_content=Homepage&u
 tm_campaign=American_Energy_Comunications\n\nFor more information visi
 t https://gomarcellusshale.com/events/6th-annual-cost-effective-produc
 ed-water-management-initiative-20
DTSTART;TZID=Pacific/Midway:20171012T000000
DTEND;TZID=Pacific/Midway:20171013T235900
CATEGORIES:conference
LOCATION:Denver, CO
WEBSITE:
URL:
CONTACT:
ORGANIZER:American Business Conferences
ATTACH;FMTTYPE="image/jpeg":
END:VEVENT
END:VCALENDAR
