BEGIN:VCALENDAR
PRODID:NingEventWidget-v1
VERSION:2.0
METHOD:PUBLISH
BEGIN:VTIMEZONE
TZID:Pacific/Midway
X-LIC-LOCATION:Pacific/Midway
BEGIN:STANDARD
TZOFFSETFROM:-1100
TZOFFSETTO:-1100
TZNAME:SST
DTSTART:19700101T000000
END:STANDARD
END:VTIMEZONE
BEGIN:VEVENT
UID:2274639:Event:72466
DTSTAMP:20260425T090351Z
SUMMARY:A Natural Gas Trio: Three Events for Three Different Audiences
DESCRIPTION:For Property Owners and Community Residents:\n\"Leasing, W
 ater, and Pipeline Safety\"\nBryan Swistock, Penn State Extension Wate
 r Quality Specialist\nRoss Pifer, Director The Agricultural Law Resour
 ce & Reference Center, Penn State University, The Dickinson School of 
 Law\nChris DeMarco, PA PUC Gas Safety Inspector\nCost: $10 per person 
 at the door, pre registration is REQUIRED call Penn State Extension to
  register at 724-287-4761\nSponsored in part by Farmers National Bank\
 n\nFor more information visit https://gomarcellusshale.com/events/a-na
 tural-gas-trio-three
DTSTART;TZID=Pacific/Midway:20110307T190000
DTEND;TZID=Pacific/Midway:20110307T203000
CATEGORIES:education
LOCATION:Butler County Community College
WEBSITE:http://www.butlercountychamber.com/component/content/article/2
 3-chamber-news/184-marcellus-shale-trio-of-seminars
URL:http://www.butlercountychamber.com/component/content/article/23-ch
 amber-news/184-marcellus-shale-trio-of-seminars
CONTACT:724-287-4761
ORGANIZER:Butler County Chamber of Commerce, BC3 and Penn State Extens
 ion
ATTACH;FMTTYPE="image/jpeg":
ATTENDEE;ROLE=REQ-PARTICIPANT;PARTSTAT=ACCEPTED;RSVP=TRUE;CN="Steven N
 ickell":https://gomarcellusshale.com/profile/StevenNickell
END:VEVENT
END:VCALENDAR
