BEGIN:VCALENDAR
PRODID:NingEventWidget-v1
VERSION:2.0
METHOD:PUBLISH
BEGIN:VTIMEZONE
TZID:Pacific/Midway
X-LIC-LOCATION:Pacific/Midway
BEGIN:STANDARD
TZOFFSETFROM:-1100
TZOFFSETTO:-1100
TZNAME:SST
DTSTART:19700101T000000
END:STANDARD
END:VTIMEZONE
BEGIN:VEVENT
UID:2274639:Event:726026
DTSTAMP:20260425T041502Z
SUMMARY:ABGPA Technical Roundtable
DESCRIPTION:Join the ABGPA for its first Technical Roundtable on Thurs
 day, April 28, 2016. Attendees will hear from vendors and facility/pip
 eline operators on various topics.\nClick here for more information.\n
 \nFor more information visit https://gomarcellusshale.com/events/abgpa
 -technical-roundtable
DTSTART;TZID=Pacific/Midway:20160428T070000
DTEND;TZID=Pacific/Midway:20160428T130000
CATEGORIES:training
LOCATION:Bella Sera - Canonsburg, PA
WEBSITE:https://abgpa.org/civicrm/event/info?reset=1&id=16
URL:https://abgpa.org/civicrm/event/info?reset=1&id=16
CONTACT:
ORGANIZER;CN="Gary Phillips":https://gomarcellusshale.com/profile/Gary
 Phillips
ATTACH;FMTTYPE="image/jpeg":
ATTENDEE;ROLE=REQ-PARTICIPANT;PARTSTAT=ACCEPTED;RSVP=TRUE;CN="Gary Phi
 llips":https://gomarcellusshale.com/profile/GaryPhillips
END:VEVENT
END:VCALENDAR
