BEGIN:VCALENDAR
PRODID:NingEventWidget-v1
VERSION:2.0
METHOD:PUBLISH
BEGIN:VTIMEZONE
TZID:Pacific/Midway
X-LIC-LOCATION:Pacific/Midway
BEGIN:STANDARD
TZOFFSETFROM:-1100
TZOFFSETTO:-1100
TZNAME:SST
DTSTART:19700101T000000
END:STANDARD
END:VTIMEZONE
BEGIN:VEVENT
UID:2274639:Event:363448
DTSTAMP:20260420T184136Z
SUMMARY:Already Leased? What are my Options?
DESCRIPTION:4 Part Agenda:  \n\nTrends of Shale Gas: Tom Murphy, Co-
 Director MCOR\nComparing Conventional and Shale Gas Leasing and Drilli
 ng -- Do Landowners Under Lease have Options? PSU (MET) Educator\nPane
 l Discussion: Gas/Oil Atty's\nQuestion and Answer Period\n\nRegistrati
 on required. $15/Person   Use Website or Phone given below to regist
 er.\nSponsored by: Penn State Marcellus Educational Consortium\n\nFor 
 more information visit https://gomarcellusshale.com/events/already-lea
 sed-what-are-my-options
DTSTART;TZID=Pacific/Midway:20121129T180000
DTEND;TZID=Pacific/Midway:20121129T203000
CATEGORIES:educational
LOCATION:Firemen's Meeting Hall
WEBSITE:http://agsci.psu.edu/shale-lease-options/coudersport
URL:http://agsci.psu.edu/shale-lease-options/coudersport
CONTACT:814.887.5613
ORGANIZER;CN="Janice L. Hancharick":https://gomarcellusshale.com/profi
 le/JaniceLHancharick
ATTACH;FMTTYPE="image/jpeg":
ATTENDEE;ROLE=REQ-PARTICIPANT;PARTSTAT=ACCEPTED;RSVP=TRUE;CN="Janice L
 . Hancharick":https://gomarcellusshale.com/profile/JaniceLHancharick
END:VEVENT
END:VCALENDAR
