BEGIN:VCALENDAR
PRODID:NingEventWidget-v1
VERSION:2.0
METHOD:PUBLISH
BEGIN:VTIMEZONE
TZID:Pacific/Midway
X-LIC-LOCATION:Pacific/Midway
BEGIN:STANDARD
TZOFFSETFROM:-1100
TZOFFSETTO:-1100
TZNAME:SST
DTSTART:19700101T000000
END:STANDARD
END:VTIMEZONE
BEGIN:VEVENT
UID:2274639:Event:48429
DTSTAMP:20260425T002725Z
SUMMARY:Argus Marcellus Shale Gas Summit 2010
DESCRIPTION:Marcellus shale gas production is rising rapidly and resha
 ping the North American gas market landscape. Exports of Marcellus gas
  to Canada are already on the horizon, creating competition at the Daw
 n storage hub in Ontario and other markets. This dynamic could soon be
  replicated in other regions. The trend toward capacity turnback on pi
 pes serving the Northeast could continue, resulting in Marcellus gas g
 oing south, potentially displacing Haynesville and Barnett shale produ
 ction and affecting Rockies Express in the West. New market dynamics a
 nd increasing Marcellus gas supplies create new and exciting opportuni
 ties for marketers, consumers, shippers, traders and producers. That's
  why Argus is bringing the Marcellus to Houston, the oil & gas trading
  capital of the US.\n\nFor more information, and to register, go to:\n
 http://www.argusgasamericas.com/marcellus\n\nFor more information visi
 t https://gomarcellusshale.com/events/argus-marcellus-shale-gas
DTSTART;TZID=Pacific/Midway:20101019T080000
DTEND;TZID=Pacific/Midway:20101019T190000
CATEGORIES:conference
LOCATION:Houstonian Hotel, Club & Spa
WEBSITE:http://www.argusgasamericas.com/marcellus/venue.html
URL:http://www.argusgasamericas.com/marcellus/venue.html
CONTACT:2023492885
ORGANIZER:Argus Media
ATTACH;FMTTYPE="image/jpeg":http://storage.ning.com/topology/rest/1.0/
 file/get/97588169?profile=original
ATTENDEE;ROLE=REQ-PARTICIPANT;PARTSTAT=ACCEPTED;RSVP=TRUE;CN="Umer Qur
 eshi":https://gomarcellusshale.com/profile/UmerQureshi
END:VEVENT
END:VCALENDAR
