BEGIN:VCALENDAR
PRODID:NingEventWidget-v1
VERSION:2.0
METHOD:PUBLISH
BEGIN:VTIMEZONE
TZID:Pacific/Midway
X-LIC-LOCATION:Pacific/Midway
BEGIN:STANDARD
TZOFFSETFROM:-1100
TZOFFSETTO:-1100
TZNAME:SST
DTSTART:19700101T000000
END:STANDARD
END:VTIMEZONE
BEGIN:VEVENT
UID:2274639:Event:262962
DTSTAMP:20260424T082318Z
SUMMARY:AUCTION: 66+/- Total Acres with Oil/Gas/Mineral Lease
DESCRIPTION:Ordered by U.S. Bankruptcy Court for Middle District of Pe
 nnsylvania – Bk. No. 4-11-04263\nLUXURY LOG HOME\nMULTI-PARCEL REAL 
 ESTATE AUCTION\nSAT., APRIL 28 at 1 PM\nOn-site Auction: 1428 Woodward
  Ave., Lock Haven, PA\n Lot 1: Home on 33± acres ● Lot 2: 17± acr
 es vacant land ● Lot 3: 13± acres vacant land ● Lot 4: 3± acres 
 vacant land\nTotal 66± acres subject to remainder of existing oil/gas
 /mineral lease which will convey with title. All OGM’s as leased wil
 l convey with title.\n \nLOG HOME FEATURES:\n• 4,600 sq. ft. above-
 grade living area\n• 3,700 sq. ft. finished living space in basement
  with ground level entry garage\n• 2,800 sq. ft. decks/balconies\n
  4 bedrooms, 4 full and 2 half baths\n• 2 kitchens, wet bar, Pennsy
 lvania cherry cabinetry\n• Huge native stone fireplace\n• Massive 
 master bedroom with hot tub/spa\n• Hardwood and hand-molded tile flo
 ors\n• Electronically controlled skylights\n• Kohler “Habitat Ro
 om” (sauna, steam, shower, tanning bed, surround sound, etc.)\n• H
 igh efficiency Low–E glass in windows & doors\n• Strategically des
 igned and positioned to best utilize passive solar year-round\n• Nea
 r the West Branch of the Susquehanna River\n \nBid Online! Broker Par
 ticipation Welcome!\n \n570-835-4214 ● JelliffAuctionGroup.com\n \
 nTerms: Offered subject to confirmation. 10% down at close of bidding,
  balance due at closing within 45 days. Statements made day of auction
  take precedence over previously released material. 10% buyer’s prem
 ium applied to winning bid. Randy Jelliff, Lic. AY002188.\n \nUnited 
 Country – Jelliff Auction Group\nRandy Jelliff\n95 Longbow Lane\nTio
 ga, PA 16946\n\nFor more information visit https://gomarcellusshale.co
 m/events/auction-66-total-acres-with-oil-gas-mineral-lease
DTSTART;TZID=Pacific/Midway:20120428T130000
DTEND;TZID=Pacific/Midway:20120428T133000
CATEGORIES:auction
LOCATION:On-site
WEBSITE:
URL:
CONTACT:
ORGANIZER;CN="Ashley Duffy":https://gomarcellusshale.com/profile/Ashle
 yDuffy
ATTACH;FMTTYPE="image/jpeg":http://storage.ning.com/topology/rest/1.0/
 file/get/97595433?profile=original
ATTENDEE;ROLE=REQ-PARTICIPANT;PARTSTAT=ACCEPTED;RSVP=TRUE;CN="Ashley D
 uffy":https://gomarcellusshale.com/profile/AshleyDuffy
END:VEVENT
END:VCALENDAR
