BEGIN:VCALENDAR
PRODID:NingEventWidget-v1
VERSION:2.0
METHOD:PUBLISH
BEGIN:VTIMEZONE
TZID:Pacific/Midway
X-LIC-LOCATION:Pacific/Midway
BEGIN:STANDARD
TZOFFSETFROM:-1100
TZOFFSETTO:-1100
TZNAME:SST
DTSTART:19700101T000000
END:STANDARD
END:VTIMEZONE
BEGIN:VEVENT
UID:2274639:Event:373603
DTSTAMP:20260420T115249Z
SUMMARY:AUCTION!! House & 14 acres in southwest Coshocton County.
DESCRIPTION:AS FAR AS WE KNOW WE OWN THE MINERAL RIGHTS TO OUR PROPERT
 Y. We do not wish to retain them. Auctioning house and 14 acres. Beaut
 iful older farm house. Visit Dale Gress' auction website for pictures 
 and more information.\n\nFor more information visit https://gomarcellu
 sshale.com/events/auction-house-14-acres-in-southwest-coshocton-county
DTSTART;TZID=Pacific/Midway:20121206T160000
DTEND;TZID=Pacific/Midway:20121206T170000
CATEGORIES:auction
LOCATION:AT THE PROPERTY
WEBSITE:
URL:
CONTACT:
ORGANIZER:Dale Gress Auctions
ATTACH;FMTTYPE="image/jpeg":
ATTENDEE;ROLE=REQ-PARTICIPANT;PARTSTAT=ACCEPTED;RSVP=TRUE;CN=Stephany:
 https://gomarcellusshale.com/profile/Stephany
END:VEVENT
END:VCALENDAR
