BEGIN:VCALENDAR
PRODID:NingEventWidget-v1
VERSION:2.0
METHOD:PUBLISH
BEGIN:VTIMEZONE
TZID:Pacific/Midway
X-LIC-LOCATION:Pacific/Midway
BEGIN:STANDARD
TZOFFSETFROM:-1100
TZOFFSETTO:-1100
TZNAME:SST
DTSTART:19700101T000000
END:STANDARD
END:VTIMEZONE
BEGIN:VEVENT
UID:2274639:Event:373797
DTSTAMP:20260420T083602Z
SUMMARY:Black Sea Oil and Gas Forum 2013
DESCRIPTION:The Black Sea Oil and Gas Forum will focus on opportunitie
 s arising from the increased activity for oil and gas exploration in t
 he Black Sea region and overcoming upstream and midstream challenges o
 f production and transportation to markets.\n \nHeld under the patron
 age of the Republic of Bulgaria Ministry of Economy, Energy and Touris
 m, The Forum will give government and industry stakeholders a timely p
 latform to focus on developments in this fast-paced market and will ex
 plore the key areas which will require further commitment and investme
 nt. Attendees will also gain an understanding of the significant geopo
 litics between the major players in the Black Sea region as it will co
 ver developments from the littoral states, including those in Russia, 
 Ukraine, Georgia, Bulgaria, Romania and Turkey, together with surround
 ing countries influencing the region.\n \nConfirmed Speakers Include:
 \n \nH.E. Delian Dobrev, Minister of Economy,  Ministry of Energy an
 d Tourism of Bulgaria\nKurt Wagner, Vice President Exploration, Middle
  East & Caspian, OMV\nPatrick Pluen, VP France Italy Gas Shale Europe,
  Total\nKiril Temelkov, CEO, Bulgartranzgaz\nBogdan Popescu, Managing 
 Director, Zeta Petroleum\nJean-Arnold Vinois, Acting Director for Inte
 rnal Energy Market, European Commission \n \nFor further information
 , visit http://www.blackseaoilgas.com  or contact\n \nLaurence Allen
 , Marketing Manager\n \nEmail: laurenceallen@dmgevents.com\n \nCall:
  +44 (0) 203 615 0390\n \nFax: +44 (0) 203 615 0679\n\nFor more infor
 mation visit https://gomarcellusshale.com/events/black-sea-oil-and-gas
 -forum-2013
DTSTART;TZID=Pacific/Midway:20130305T080000
DTEND;TZID=Pacific/Midway:20130307T170000
CATEGORIES:oil, gas, exploration, investment, pipelines, forum, confer
 ence, bulgaria, turkey, romania, russia, georgia
LOCATION:Sheraton Sofia Balkan, Sofia, Bulgaria
WEBSITE:https://maps.google.co.uk/maps?hl=en&ie=UTF-8&q=Sheraton+Sofia
 +balkan&fb=1&gl=uk&hq=Sheraton+Sofia+balkan&cid=0,0,156870561306280881
 01&ei=7Ku4UJ_uGIqL4gStrYGgBw&ved=0CKsBEPwSMAI
URL:https://maps.google.co.uk/maps?hl=en&ie=UTF-8&q=Sheraton+Sofia+bal
 kan&fb=1&gl=uk&hq=Sheraton+Sofia+balkan&cid=0,0,15687056130628088101&e
 i=7Ku4UJ_uGIqL4gStrYGgBw&ved=0CKsBEPwSMAI
CONTACT:0044 203 615 0390
ORGANIZER;CN="Laurence Allen":https://gomarcellusshale.com/profile/Lau
 renceAllen207
ATTACH;FMTTYPE="image/jpeg":http://storage.ning.com/topology/rest/1.0/
 file/get/97600395?profile=original
ATTENDEE;ROLE=REQ-PARTICIPANT;PARTSTAT=ACCEPTED;RSVP=TRUE;CN="Laurence
  Allen":https://gomarcellusshale.com/profile/LaurenceAllen207
END:VEVENT
END:VCALENDAR
