BEGIN:VCALENDAR
PRODID:NingEventWidget-v1
VERSION:2.0
METHOD:PUBLISH
BEGIN:VTIMEZONE
TZID:Pacific/Midway
X-LIC-LOCATION:Pacific/Midway
BEGIN:STANDARD
TZOFFSETFROM:-1100
TZOFFSETTO:-1100
TZNAME:SST
DTSTART:19700101T000000
END:STANDARD
END:VTIMEZONE
BEGIN:VEVENT
UID:2274639:Event:591125
DTSTAMP:20260424T033959Z
SUMMARY:\"Breaking Free\" Film Premier at New York Energy Week
DESCRIPTION:\"Breaking Free\" Film Premier\nWednesday, June 18, 2014 6
 :00 PMÂ -Â 10:00 PMÂ (Eastern Time)\nTribeca Film Center - Tribeca Scr
 eening Room375 Greenwich StreetNew York,Â New YorkÂ 10013United States
 212.941.2000\nEvent Details\nPhone: 212-537-4797Â Email Us\n\nTribecaÂ
  â€‹ScreeningÂ â€‹RoomÂ â€‹forÂ â€‹theÂ â€‹premierÂ â€‹ofÂ â€‹Breaking
 Â â€‹FreeÂ TribecaÂ â€‹GrillÂ â€‹LoftÂ â€‹hostingÂ â€‹theÂ â€‹receptio
 nsÂ 6Â â€‹p.m.-7Â â€‹p.m.Â â€‹ReceptionÂ â€‹atÂ â€‹theÂ â€‹TribecaÂ â€
 ‹GrillÂ â€‹(LoftÂ â€‹area)Â 7Â â€‹p.m.-9Â â€‹p.m.Â â€‹PremierÂ â€‹ofÂ 
 â€‹BreakingÂ â€‹Free,Â â€‹aÂ â€‹documentary,Â â€‹followedÂ â€‹byÂ â€‹Q
 &AÂ â€‹withÂ â€‹ChrisÂ â€‹Faulkner,Â â€‹CEOÂ â€‹BreitlingÂ â€‹Energy,Â
  â€‹Dr.Â â€‹KennethÂ â€‹MedlockÂ â€‹III,Â â€‹RiceÂ â€‹Universityâ€™sÂ 
 â€‹BakerÂ â€‹InstituteÂ â€‹forÂ â€‹PublicÂ â€‹Policy,Â â€‹RobinÂ â€‹Bo
 ssert,Â â€‹Director.Â 9Â â€‹p.m.-10Â â€‹p.m.Â â€‹DessertÂ â€‹reception
 ,Â â€‹bookÂ â€‹signingÂ â€‹ofÂ â€‹TheÂ â€‹FrackingÂ â€‹TruthÂ â€‹byÂ â
 €‹ChrisÂ â€‹Faulkner\n\n\n\nFor more information visit https://gomarce
 llusshale.com/events/breaking-free-film-premier-at-new-york-energy-wee
 k
DTSTART;TZID=Pacific/Midway:20140618T180000
DTEND;TZID=Pacific/Midway:20140618T220000
CATEGORIES:movie, screening
LOCATION:Tribeca Film Center - Tribeca Screening Room 375 Greenwich St
 reet New York, New York 10013
WEBSITE:https://www.regonline.com/Register/Checkin.aspx?EventID=156564
 1
URL:https://www.regonline.com/Register/Checkin.aspx?EventID=1565641
CONTACT:
ORGANIZER:NEW YORK ENERGY WEEK and BREITLING ENERGY
ATTACH;FMTTYPE="image/jpeg":http://storage.ning.com/topology/rest/1.0/
 file/get/97610930?profile=original
ATTENDEE;ROLE=REQ-PARTICIPANT;PARTSTAT=ACCEPTED;RSVP=TRUE;CN="John Q. 
 Robinson, Jr., PG, CPG":https://gomarcellusshale.com/profile/JohnQRobi
 nsonJrPGCPG
ATTENDEE;ROLE=REQ-PARTICIPANT;PARTSTAT=ACCEPTED;RSVP=TRUE;CN=BPstyler:
 https://gomarcellusshale.com/profile/BPstyler
ATTENDEE;ROLE=REQ-PARTICIPANT;PARTSTAT=ACCEPTED;RSVP=TRUE;CN="Diane Sy
 kes":https://gomarcellusshale.com/profile/DianeSykes
ATTENDEE;ROLE=REQ-PARTICIPANT;PARTSTAT=ACCEPTED;RSVP=TRUE;CN="Ernest S
 cheyder":https://gomarcellusshale.com/profile/ErnestScheyder
ATTENDEE;ROLE=REQ-PARTICIPANT;PARTSTAT=ACCEPTED;RSVP=TRUE;CN="demetrio
 s diakolios":https://gomarcellusshale.com/profile/demetriosdiakolios
ATTENDEE;ROLE=REQ-PARTICIPANT;PARTSTAT=ACCEPTED;RSVP=TRUE;CN="Keith Ma
 uck (Site Publisher)":https://gomarcellusshale.com/profile/marcellus_s
 hale
ATTENDEE;ROLE=REQ-PARTICIPANT;PARTSTAT=TENTATIVE;RSVP=TRUE;CN="Dlayne 
 Carite":https://gomarcellusshale.com/profile/DlayneCarite
END:VEVENT
END:VCALENDAR
