BEGIN:VCALENDAR
PRODID:NingEventWidget-v1
VERSION:2.0
METHOD:PUBLISH
BEGIN:VTIMEZONE
TZID:Pacific/Midway
X-LIC-LOCATION:Pacific/Midway
BEGIN:STANDARD
TZOFFSETFROM:-1100
TZOFFSETTO:-1100
TZNAME:SST
DTSTART:19700101T000000
END:STANDARD
END:VTIMEZONE
BEGIN:VEVENT
UID:2274639:Event:590424
DTSTAMP:20260424T091447Z
SUMMARY:Canada LNG Export Conference & Exhibition
DESCRIPTION:The 2014 Canada LNG Export Conference & Exhibition will br
 ing together the key industry leaders who invest, drive and develop LN
 G export opportunities in Canada. Join members of the government, LNG 
 exporters, Asian buyers, project investors, international financial in
 stitutions and all other major stakeholders who will share their insig
 hts and strategies for promoting LNG projects within Canada – a coun
 try with vast potential for investment opportunities and return\n\nFor
  more information visit https://gomarcellusshale.com/events/canada-lng
 -export-conference-exhibition
DTSTART;TZID=Pacific/Midway:20140916T090000
DTEND;TZID=Pacific/Midway:20140918T170000
CATEGORIES:conference, and, exhibition
LOCATION:Telus Convention Center
WEBSITE:http://www.canadalngexport.com/
URL:http://www.canadalngexport.com/
CONTACT:+44 203 615 2869
ORGANIZER:DMG Events
ATTACH;FMTTYPE="image/jpeg":http://storage.ning.com/topology/rest/1.0/
 file/get/97611057?profile=original
ATTENDEE;ROLE=REQ-PARTICIPANT;PARTSTAT=ACCEPTED;RSVP=TRUE;CN="Neill Ho
 ward":https://gomarcellusshale.com/profile/NeillHoward
END:VEVENT
END:VCALENDAR
