BEGIN:VCALENDAR
PRODID:NingEventWidget-v1
VERSION:2.0
METHOD:PUBLISH
BEGIN:VTIMEZONE
TZID:Pacific/Midway
X-LIC-LOCATION:Pacific/Midway
BEGIN:STANDARD
TZOFFSETFROM:-1100
TZOFFSETTO:-1100
TZNAME:SST
DTSTART:19700101T000000
END:STANDARD
END:VTIMEZONE
BEGIN:VEVENT
UID:2274639:Event:300742
DTSTAMP:20260423T123334Z
SUMMARY:Certified Sampler Program
DESCRIPTION:\nThe Certified Sampler Program was developed to address s
 pecific collection issues and testing requirements associated with New
  York, Pennsylvania, Michigan, Ohio, West Virginia and Texas. We are a
 lso gathering additional testing information necessary for testing in 
 Wyoming and Colorado.\n\nTo help keep up with the demand for compliant
  and regulatory water testing, National Testing Laboratories, in conju
 nction with Wilkes University and B.F. Environmental, is offering a Ce
 rtified Sampler Program to individuals interested in learning about pr
 oper sample collection techniques and chain of custody.\n \n\nYou sho
 uld consider attending this class if you want to learn more about the 
 process of water testing and you work in the water industry or you are
  a Water Treatment professional, Well Driller, Public Water Supply Tec
 hnician or Environmentalist. More importantly, if you want to be calle
 d upon to collect water samples in the field for compliance and/or reg
 ulatory testing, you should attend this course.\nWhen: July 28, 2012\n
 Where: Cleveland, OH (location to be determined) - Register by June 29
 , 2012\nCost: $175.00 per person Reservations are required for class a
 ttendance\nContact\n Marianne Metzger at 800-458-3330 x223 or email a
 t mmetzger@ntllabs.com\n\nFor more information visit https://gomarcell
 usshale.com/events/certified-sampler-program
DTSTART;TZID=Pacific/Midway:20120728T000000
DTEND;TZID=Pacific/Midway:20120728T235900
CATEGORIES:training, education, continuing
LOCATION:National Testing Laboratories
WEBSITE:http://www.water-research.net/course/certifiedsamplerclass.pdf
URL:http://www.water-research.net/course/certifiedsamplerclass.pdf
CONTACT:800-458-3330 x223
ORGANIZER;CN="Brian Oram, PG":https://gomarcellusshale.com/profile/Bri
 anOramPG
ATTACH;FMTTYPE="image/jpeg":
ATTENDEE;ROLE=REQ-PARTICIPANT;PARTSTAT=ACCEPTED;RSVP=TRUE;CN="Brian Or
 am, PG":https://gomarcellusshale.com/profile/BrianOramPG
END:VEVENT
END:VCALENDAR
