BEGIN:VCALENDAR
PRODID:NingEventWidget-v1
VERSION:2.0
METHOD:PUBLISH
BEGIN:VTIMEZONE
TZID:Pacific/Midway
X-LIC-LOCATION:Pacific/Midway
BEGIN:STANDARD
TZOFFSETFROM:-1100
TZOFFSETTO:-1100
TZNAME:SST
DTSTART:19700101T000000
END:STANDARD
END:VTIMEZONE
BEGIN:VEVENT
UID:2274639:Event:353975
DTSTAMP:20260420T202425Z
SUMMARY:Chain of Custody and Baseline Sampling
DESCRIPTION:1. Introduction into Natural Gas Development – Geology, 
 Process, Chemicals\n2. Private Wells – A brief summary of Private We
 ll Regulations in Pennsylvania\n3. Quick Summary of Common Water Treat
 ment Systems and Problems Experienced by Private Well Owners\n4. Proce
 ss and Goals of Baseline Testing\nWhat We Learned from Dimock, Frankli
 n Forks, and other Areas.\nWhat We Learned from the Citizens Groundwat
 er Database.\nSuggested Baseline Testing Parameters\n5. Chain of Custo
 dy – When does it begin? Where are the common holes in the process?\
 n6. Reviewing the Data and Using the Data to Generate Additional Work\
 nInstructor: Brian Oram is a Professional Geologist and Soil Scientist
  with B.F. Environmental Consultants. He is a licensed professional ge
 ologist, licensed Well Driller, Professional Soil Scientist, and licen
 sed Sewage Enforcement Officer in the Commonwealth of Pennsylvania wit
 h over 20 years experience in conducting hydrogeological investigation
 s related to water supply development, contaminant migration, wetland 
 mitigation, and land based wastewater disposal systems.\n\nFor more in
 formation visit https://gomarcellusshale.com/events/chain-of-custody-a
 nd-baseline-sampling
DTSTART;TZID=Pacific/Midway:20121129T170000
DTEND;TZID=Pacific/Midway:20121129T200000
CATEGORIES:continuing, education, training, course
LOCATION:Wilkes University
WEBSITE:http://www.wilkes.edu/pages/1703.asp
URL:http://www.wilkes.edu/pages/1703.asp
CONTACT:570-335-1947
ORGANIZER;CN="Brian Oram, PG":https://gomarcellusshale.com/profile/Bri
 anOramPG
ATTACH;FMTTYPE="image/jpeg":
ATTENDEE;ROLE=REQ-PARTICIPANT;PARTSTAT=ACCEPTED;RSVP=TRUE;CN="Brian Or
 am, PG":https://gomarcellusshale.com/profile/BrianOramPG
END:VEVENT
END:VCALENDAR
