BEGIN:VCALENDAR
PRODID:NingEventWidget-v1
VERSION:2.0
METHOD:PUBLISH
BEGIN:VTIMEZONE
TZID:Pacific/Midway
X-LIC-LOCATION:Pacific/Midway
BEGIN:STANDARD
TZOFFSETFROM:-1100
TZOFFSETTO:-1100
TZNAME:SST
DTSTART:19700101T000000
END:STANDARD
END:VTIMEZONE
BEGIN:VEVENT
UID:2274639:Event:469710
DTSTAMP:20260419T221635Z
SUMMARY:CNG 101
DESCRIPTION:CNG 101 presented by CNG One Source on July 10th 2013 6-8p
 m at the Belair Conference Center in Erie Pa 2800 W 8th st\nLearn abou
 t the Pa grants to convert your cars and trucks to run on CNG\n\nFor m
 ore information visit https://gomarcellusshale.com/events/cng-101
DTSTART;TZID=Pacific/Midway:20130710T180000
DTEND;TZID=Pacific/Midway:20130710T200000
CATEGORIES:seminar
LOCATION:Belair Conference Center
WEBSITE:
URL:
CONTACT:814 835 0200
ORGANIZER:CNG One Source
ATTACH;FMTTYPE="image/jpeg":
ATTENDEE;ROLE=REQ-PARTICIPANT;PARTSTAT=ACCEPTED;RSVP=TRUE;CN=familyman
 :https://gomarcellusshale.com/profile/familyman
END:VEVENT
END:VCALENDAR
