BEGIN:VCALENDAR
PRODID:NingEventWidget-v1
VERSION:2.0
METHOD:PUBLISH
BEGIN:VTIMEZONE
TZID:Pacific/Midway
X-LIC-LOCATION:Pacific/Midway
BEGIN:STANDARD
TZOFFSETFROM:-1100
TZOFFSETTO:-1100
TZNAME:SST
DTSTART:19700101T000000
END:STANDARD
END:VTIMEZONE
BEGIN:VEVENT
UID:2274639:Event:506436
DTSTAMP:20260420T181926Z
SUMMARY:Connectivity of Streams and Wetlands to Downstream Waters
DESCRIPTION:NEW for 2013\nLive In-Person Workshop\nDecember 5, 2013\n 
 9 AM to 4 PM EST\n Williamsport, PA\nOn September 10, 2013 the US EPA 
 Science Advisory Board published the draft, “Connectivity of Streams
  and Wetlands to Downstream Waters: A Review and Synthesis of the Scie
 ntific Evidence.” This report is still a draft, and EPA specially di
 scloses that this is not the official policy. However, it does present
  a fairly accurate view of the culture and tone of the future Waters o
 f the US (WoUS) policy.\n \n This workshop will discuss the current st
 atus of the determination of a WoUS and how that may change as a resul
 t of this new report. We will break down the report in to the key sect
 ions including:\n\n Effects of Streams and Wetlands on Downstream Wate
 rs: A Conceptual Framework\n Streams: Physical, Chemical, and Biologic
 al Connections to Rivers\n Wetlands: Physical, Chemical, and Biologica
 l Connections to Rivers\n\n Finally we will discuss how this new “po
 licy” may affect how we determine if a stream or wetland is under Fe
 deral Jurisdiction under either the Clean Water Act or the Rivers and 
 harbors Act or both.\nWe will also discuss some of the new terms inclu
 ding:\n\n Unidirectional Wetlands\n Bidirectional Wetlands\n Geographi
 cally Isolated Wetlands\n Biogeochemical Interactions\n Hyporheic Zone
 s\n Alluvial Aquifers\n and a lot more!\n\nThis workshop is a blend of
  some slightly technical topics as well as a lot of common sense appro
 aches to manage these new jurisdictional interpretations.\nJoin us on 
 December 5, 2013 in Williamsport, Pennsylvania for an informative, int
 eractive and just a little controversial workshop.\n \nMore ==> HERE\
 n\nFor more information visit https://gomarcellusshale.com/events/conn
 ectivity-of-streams-and-wetlands-to-downstream-waters-1
DTSTART;TZID=Pacific/Midway:20131205T084500
DTEND;TZID=Pacific/Midway:20131205T160000
CATEGORIES:workshop
LOCATION:Environmental Solutions Association
WEBSITE:https://maps.google.com/maps?q=416+pine+st+williamsport+pa&hl=
 en&sll=40.552099,-80.319217&sspn=0.006473,0.009645&hnear=416+Pine+St,+
 Williamsport,+Pennsylvania+17701&t=m&z=17&iwloc=A
URL:https://maps.google.com/maps?q=416+pine+st+williamsport+pa&hl=en&s
 ll=40.552099,-80.319217&sspn=0.006473,0.009645&hnear=416+Pine+St,+Will
 iamsport,+Pennsylvania+17701&t=m&z=17&iwloc=A
CONTACT:1-877-479-2673
ORGANIZER;CN="Marc Seelinger":https://gomarcellusshale.com/profile/Mar
 cSeelinger
ATTACH;FMTTYPE="image/jpeg":http://storage.ning.com/topology/rest/1.0/
 file/get/97606101?profile=original
ATTENDEE;ROLE=REQ-PARTICIPANT;PARTSTAT=ACCEPTED;RSVP=TRUE;CN="Marc See
 linger":https://gomarcellusshale.com/profile/MarcSeelinger
END:VEVENT
END:VCALENDAR
