BEGIN:VCALENDAR
PRODID:NingEventWidget-v1
VERSION:2.0
METHOD:PUBLISH
BEGIN:VTIMEZONE
TZID:Pacific/Midway
X-LIC-LOCATION:Pacific/Midway
BEGIN:STANDARD
TZOFFSETFROM:-1100
TZOFFSETTO:-1100
TZNAME:SST
DTSTART:19700101T000000
END:STANDARD
END:VTIMEZONE
BEGIN:VEVENT
UID:2274639:Event:506515
DTSTAMP:20260420T150743Z
SUMMARY:Connectivity of Streams and Wetlands to Downstream Waters
DESCRIPTION:NEW for 2013\nLive In-Person Workshop\nNovember 14, 2013\n
  9 AM to 4 PM EST\n Pittsburgh, PA\nOn September 10, 2013 the US EPA S
 cience Advisory Board published the draft, “Connectivity of Streams 
 and Wetlands to Downstream Waters: A Review and Synthesis of the Scien
 tific Evidence.”  This report is still a draft, and EPA specially di
 scloses that this is not the official policy. However, it does present
  a fairly accurate view of the culture and tone of the future Waters o
 f the US (WoUS) policy.\n \n  This workshop will discuss the current s
 tatus of the determination of a WoUS and how that may change as a resu
 lt of this new report. We will break down the report in to the key sec
 tions including:\n\n Effects of Streams and Wetlands on Downstream Wat
 ers: A Conceptual Framework\n Streams: Physical, Chemical, and Biologi
 cal Connections to Rivers\n Wetlands: Physical, Chemical, and Biologic
 al Connections to Rivers\n\n Finally we will discuss how this new “p
 olicy” may affect how we determine if a stream or wetland is under F
 ederal Jurisdiction under either the Clean Water Act or the Rivers and
  harbors Act or both.\nWe will also discuss some of the new terms incl
 uding:\n\n Unidirectional Wetlands\n Bidirectional Wetlands\n Geograph
 ically Isolated Wetlands\n Biogeochemical Interactions\n Hyporheic Zon
 es\n Alluvial Aquifers\n and a lot more!\n\nThis workshop is a blend o
 f some slightly technical topics as well as a lot of common sense appr
 oaches to manage these new jurisdictional interpretations.\nJoin us on
  November 14, 2013 in Pittsburgh, Pennsylvania for an informative, int
 eractive and just a little controversial workshop.\n\nMore ==> HERE\n\
 nFor more information visit https://gomarcellusshale.com/events/connec
 tivity-of-streams-and-wetlands-to-downstream-waters
DTSTART;TZID=Pacific/Midway:20131114T084500
DTEND;TZID=Pacific/Midway:20131114T160000
CATEGORIES:workshop
LOCATION:Beaver County Conservation District
WEBSITE:https://maps.google.com/maps?q=156+Cowpath+Road,+Aliquippa,+PA
 &hl=en&sll=35.170517,-79.860994&sspn=7.128052,9.876709&oq=156+COWPATH+
 ROAD+&hnear=156+Cowpath+Rd,+Aliquippa,+Pennsylvania+15001&t=m&z=17
URL:https://maps.google.com/maps?q=156+Cowpath+Road,+Aliquippa,+PA&hl=
 en&sll=35.170517,-79.860994&sspn=7.128052,9.876709&oq=156+COWPATH+ROAD
 +&hnear=156+Cowpath+Rd,+Aliquippa,+Pennsylvania+15001&t=m&z=17
CONTACT:1-877-479-2673
ORGANIZER;CN="Marc Seelinger":https://gomarcellusshale.com/profile/Mar
 cSeelinger
ATTACH;FMTTYPE="image/jpeg":http://storage.ning.com/topology/rest/1.0/
 file/get/97606050?profile=original
ATTENDEE;ROLE=REQ-PARTICIPANT;PARTSTAT=ACCEPTED;RSVP=TRUE;CN="Marc See
 linger":https://gomarcellusshale.com/profile/MarcSeelinger
END:VEVENT
END:VCALENDAR
