BEGIN:VCALENDAR
PRODID:NingEventWidget-v1
VERSION:2.0
METHOD:PUBLISH
BEGIN:VTIMEZONE
TZID:Pacific/Midway
X-LIC-LOCATION:Pacific/Midway
BEGIN:STANDARD
TZOFFSETFROM:-1100
TZOFFSETTO:-1100
TZNAME:SST
DTSTART:19700101T000000
END:STANDARD
END:VTIMEZONE
BEGIN:VEVENT
UID:2274639:Event:538585
DTSTAMP:20260422T232942Z
SUMMARY:CX-Energy Indiana County, PA Landowner Group Meeting
DESCRIPTION:We are CX-Energy: A company dedicated to building and mark
 eting landowner groups to achieve premium oil and gas leases in the Ap
 palachian Basin.\nWe have chosen our group locations based on the curr
 ent economics within the natural gas industry, and areas with promisin
 g geology for the future. Our online GIS mapping tool, regular meeting
 s, and newsletters keep our members informed and educated.\nOur experi
 enced team stays in constant communication with multiple oil and gas c
 ompanies by keeping them updated with the ongoing progress of our grou
 ps. We provide access to our GIS mapping tool which offers potential b
 idders highly organized information to assess the group opportunities.
  When the time is right, we help identify who is qualified to make off
 ers based on their area of interest and budget. We also take into cons
 ideration their history of responsible drilling and industry reputatio
 n. Our goal is to identify multiple oil and gas companies to provide l
 ease offers to each landowner group.\nCX-Energy is not a law firma and
  does not act as your legal counsel. As part of our services we team u
 p with oil and gas attorneys who specialize in negotiating oil and gas
  leases with premium terms including up front bonus payments, ongoing 
 royalty payments and surface and water productions.\nJoin us for a mee
 ting to hear more!\nwww.cx-energy.com  \n\nFor more information visi
 t https://gomarcellusshale.com/events/cx-energy-indiana-county-pa-land
 owner-group-meeting
DTSTART;TZID=Pacific/Midway:20140218T190000
DTEND;TZID=Pacific/Midway:20140218T200000
CATEGORIES:landowner, group, meeting
LOCATION:Brush Valley Fire Hall
WEBSITE:http://www.cx-energy.com
URL:http://www.cx-energy.com
CONTACT:724-933-1311
ORGANIZER:CX-Energy
ATTACH;FMTTYPE="image/jpeg":
ATTENDEE;ROLE=REQ-PARTICIPANT;PARTSTAT=ACCEPTED;RSVP=TRUE;CN="Becky Mo
 ore":https://gomarcellusshale.com/profile/BeckyMoore
END:VEVENT
END:VCALENDAR
