BEGIN:VCALENDAR
PRODID:NingEventWidget-v1
VERSION:2.0
METHOD:PUBLISH
BEGIN:VTIMEZONE
TZID:Pacific/Midway
X-LIC-LOCATION:Pacific/Midway
BEGIN:STANDARD
TZOFFSETFROM:-1100
TZOFFSETTO:-1100
TZNAME:SST
DTSTART:19700101T000000
END:STANDARD
END:VTIMEZONE
BEGIN:VEVENT
UID:2274639:Event:538684
DTSTAMP:20260424T004659Z
SUMMARY:CX-Energy: McKean/Potter County, PA Landowner Group Meeting
DESCRIPTION:\nWe are CX-Energy: A company dedicated to building and ma
 rketing landowner groups to achieve premium oil and gas leases in the 
 Appalachian Basin.\nWe have chosen our group locations based on the cu
 rrent economics within the natural gas industry, and areas with promis
 ing geology for the future. Our online GIS mapping tool, regular meeti
 ngs, and newsletters keep our members informed and educated.\nOur expe
 rienced team stays in constant communication with multiple oil and gas
  companies by keeping them updated with the ongoing progress of our gr
 oups. We provide access to our GIS mapping tool which offers potential
  bidders highly organized information to assess the group opportunitie
 s. When the time is right, we help identify who is qualified to make o
 ffers based on their area of interest and budget. We also take into co
 nsideration their history of responsible drilling and industry reputat
 ion. Our goal is to identify multiple oil and gas companies to provide
  lease offers to each landowner group.\nCX-Energy is not a law firma a
 nd does not act as your legal counsel. As part of our services we team
  up with oil and gas attorneys who specialize in negotiating oil and g
 as leases with premium terms including up front bonus payments, ongoin
 g royalty payments and surface and water productions.\nJoin us for a m
 eeting to hear more!\nwww.cx-energy.com  \n\nFor more information vi
 sit https://gomarcellusshale.com/events/cx-energy-mckean-potter-county
 -pa-landowner-group-meeting-1
DTSTART;TZID=Pacific/Midway:20140610T190000
DTEND;TZID=Pacific/Midway:20140610T200000
CATEGORIES:landowner, group, meeting
LOCATION:Shinglehouse
WEBSITE:http://www.cx-energy.com
URL:http://www.cx-energy.com
CONTACT:724-933-1311
ORGANIZER:CX-Energy
ATTACH;FMTTYPE="image/jpeg":
ATTENDEE;ROLE=REQ-PARTICIPANT;PARTSTAT=ACCEPTED;RSVP=TRUE;CN="Becky Mo
 ore":https://gomarcellusshale.com/profile/BeckyMoore
END:VEVENT
END:VCALENDAR
