BEGIN:VCALENDAR
PRODID:NingEventWidget-v1
VERSION:2.0
METHOD:PUBLISH
BEGIN:VTIMEZONE
TZID:Pacific/Midway
X-LIC-LOCATION:Pacific/Midway
BEGIN:STANDARD
TZOFFSETFROM:-1100
TZOFFSETTO:-1100
TZNAME:SST
DTSTART:19700101T000000
END:STANDARD
END:VTIMEZONE
BEGIN:VEVENT
UID:2274639:Event:10986
DTSTAMP:20260425T141939Z
SUMMARY:Developing Unconventional Gas Conference - DUG East
DESCRIPTION:Hart's Developing Unconventional Gas Conference (DUG) head
 s East to the heart of the Marcellus Shale Play in Pennsylvania.\n\nDU
 G East is the only Marcellus event where you will hear directly from l
 eading Marcellus Shale operators on their drilling plans and programs 
 and learn what technology is helping operators improve well results an
 d reduce drilling costs in the Marcellus Shale Play.\n\nGood news is f
 lowing from the Marcellus daily as the industry tackles one of the lar
 gest unconventional-gas plays in the U.S.\n\nFor more information visi
 t https://gomarcellusshale.com/events/developing-unconventional-gas
DTSTART;TZID=Pacific/Midway:20091019T000000
DTEND;TZID=Pacific/Midway:20091019T235900
CATEGORIES:conference
LOCATION:The Westin in Downown Pittsburg, PA
WEBSITE:http://www.dugeast.com/
URL:http://www.dugeast.com/
CONTACT:703-891-4804
ORGANIZER;CN="Keith Mauck (Site Publisher)":https://gomarcellusshale.c
 om/profile/marcellus_shale
ATTACH;FMTTYPE="image/jpeg":
ATTENDEE;ROLE=REQ-PARTICIPANT;PARTSTAT=ACCEPTED;RSVP=TRUE;CN=Sharon:ht
 tps://gomarcellusshale.com/profile/Sharon
ATTENDEE;ROLE=REQ-PARTICIPANT;PARTSTAT=ACCEPTED;RSVP=TRUE;CN=Donald:ht
 tps://gomarcellusshale.com/profile/Donald
ATTENDEE;ROLE=REQ-PARTICIPANT;PARTSTAT=ACCEPTED;RSVP=TRUE;CN="Tom Mulh
 olland":https://gomarcellusshale.com/profile/TomMulholland
ATTENDEE;ROLE=REQ-PARTICIPANT;PARTSTAT=ACCEPTED;RSVP=TRUE;CN="D Randal
 l Wright":https://gomarcellusshale.com/profile/DRandallWright
ATTENDEE;ROLE=REQ-PARTICIPANT;PARTSTAT=ACCEPTED;RSVP=TRUE;CN=DEL:https
 ://gomarcellusshale.com/profile/Denny_L
ATTENDEE;ROLE=REQ-PARTICIPANT;PARTSTAT=ACCEPTED;RSVP=TRUE;CN="Gary Fac
 emyer":https://gomarcellusshale.com/profile/GaryFacemyer
ATTENDEE;ROLE=REQ-PARTICIPANT;PARTSTAT=ACCEPTED;RSVP=TRUE;CN="Keith Ma
 uck (Site Publisher)":https://gomarcellusshale.com/profile/marcellus_s
 hale
END:VEVENT
END:VCALENDAR
