BEGIN:VCALENDAR
PRODID:NingEventWidget-v1
VERSION:2.0
METHOD:PUBLISH
BEGIN:VTIMEZONE
TZID:Pacific/Midway
X-LIC-LOCATION:Pacific/Midway
BEGIN:STANDARD
TZOFFSETFROM:-1100
TZOFFSETTO:-1100
TZNAME:SST
DTSTART:19700101T000000
END:STANDARD
END:VTIMEZONE
BEGIN:VEVENT
UID:2274639:Event:20428
DTSTAMP:20260425T083751Z
SUMMARY:DUG: The Leading Unconventional Gas Conference in North Americ
 a
DESCRIPTION:DUG: The Leading Unconventional Gas Conference in North Am
 erica\n\nJoin Us March 29 - 31, 2010\n\nNow in its 5th year, the Devel
 oping Unconventional Gas Conference & Exhibition brings operators, inv
 estors, and the service industry together for the latest insights on u
 nconventional gas plays across North America.\n\nDUG topics include ec
 onomics, production, industry activity and the technologies operators 
 are using to explore and extract unconventional gas reserves. More tha
 n 700 oil and gas professional attended in 2009. Make plans now to joi
 n us in 2010.\n\nConfirmed Speakers:\n\n•Aubrey McClendon, Chairman 
 and CEO, Chesapeake Energy Corporation\n•Dick Stoneburner, COO, Petr
 ohawk Energy Corporation\n•Glenn Darden, President & CEO, Quicksilve
 r Resources\n•Elliot Pew, COO, Common Resources\nNew This Year: Brea
 kfast Roundtables - discuss specific plays and industry topics in a sm
 all-group setting\n\nExhibits/Sponsorship: Put your company in front o
 f a targeted group of individuals.\n\nhttp://www.dugconference.com/\n\
 nFor more information visit https://gomarcellusshale.com/events/dug-th
 e-leading-unconventional
DTSTART;TZID=Pacific/Midway:20100329T000000
DTEND;TZID=Pacific/Midway:20100331T235900
CATEGORIES:conference
LOCATION:Fort Worth
WEBSITE:http://www.dugconference.com/
URL:http://www.dugconference.com/
CONTACT:
ORGANIZER;CN="Keith Mauck (Site Publisher)":https://gomarcellusshale.c
 om/profile/marcellus_shale
ATTACH;FMTTYPE="image/jpeg":
ATTENDEE;ROLE=REQ-PARTICIPANT;PARTSTAT=ACCEPTED;RSVP=TRUE;CN="Keith Ma
 uck (Site Publisher)":https://gomarcellusshale.com/profile/marcellus_s
 hale
END:VEVENT
END:VCALENDAR
