BEGIN:VCALENDAR
PRODID:NingEventWidget-v1
VERSION:2.0
METHOD:PUBLISH
BEGIN:VTIMEZONE
TZID:Pacific/Midway
X-LIC-LOCATION:Pacific/Midway
BEGIN:STANDARD
TZOFFSETFROM:-1100
TZOFFSETTO:-1100
TZNAME:SST
DTSTART:19700101T000000
END:STANDARD
END:VTIMEZONE
BEGIN:VEVENT
UID:2274639:Event:242437
DTSTAMP:20260424T111654Z
SUMMARY:DUG the Original Conference & Exhibition
DESCRIPTION:Hart Energy’s Developing Unconventional Gas (DUG) Confer
 ence & Exhibition returns to Fort Worth in 2012. DUG gives operators,
  investors, and the service industry the latest trends on U.S. and Int
 ernational unconventional gas plays including economics, activity, and
  the technologies needed to successfully develop these reserves.\n\nFo
 r more information visit https://gomarcellusshale.com/events/dug-the-o
 riginal-conference-exhibition
DTSTART;TZID=Pacific/Midway:20120423T000000
DTEND;TZID=Pacific/Midway:20120425T235900
CATEGORIES:conference, and, exhibition
LOCATION:Fort Worth Convention Center
WEBSITE:http://www.dugconference.com/
URL:http://www.dugconference.com/
CONTACT:713-260-1072
ORGANIZER:Hart Energy
ATTACH;FMTTYPE="image/jpeg":http://storage.ning.com/topology/rest/1.0/
 file/get/97594246?profile=original
ATTENDEE;ROLE=REQ-PARTICIPANT;PARTSTAT=ACCEPTED;RSVP=TRUE;CN="Samantha
  Weaver":https://gomarcellusshale.com/profile/SamanthaWeaver
END:VEVENT
END:VCALENDAR
