BEGIN:VCALENDAR
PRODID:NingEventWidget-v1
VERSION:2.0
METHOD:PUBLISH
BEGIN:VTIMEZONE
TZID:Pacific/Midway
X-LIC-LOCATION:Pacific/Midway
BEGIN:STANDARD
TZOFFSETFROM:-1100
TZOFFSETTO:-1100
TZNAME:SST
DTSTART:19700101T000000
END:STANDARD
END:VTIMEZONE
BEGIN:VEVENT
UID:2274639:Event:587033
DTSTAMP:20260424T120736Z
SUMMARY:European Autumn Gas Conference 2014
DESCRIPTION:The European Autumn Gas Conference (EAGC) 2014 will attrac
 t business leaders operating within Europe’s gas supply chain who ar
 e looking to adapt and overcome the commercial, geopolitical and macro
 -environmental challenges of working in the region. These include gove
 rnment officials, regulators, upstream and midstream companies, utilit
 ies, traders and originators, investors and large industrial energy us
 ers.\nSpecialists in Gas, Natural Gas, LNG, Origination, Trading, Gas 
 Supply, Gas Marketing, Gas Procurement, Business Development will hear
  from confirmed speaking companies including Wood Mackenzie, BP, Petro
 nas Trading, RWE Supply and Trading, BG Group and Centrica Energy\n\nF
 or more information visit https://gomarcellusshale.com/events/european
 -autumn-gas-conference-2014
DTSTART;TZID=Pacific/Midway:20141028T000000
DTEND;TZID=Pacific/Midway:20141030T235900
CATEGORIES:conference, gas, lng, shale, trading, security, investment
LOCATION:Grange St Paul's Hotel
WEBSITE:https://maps.google.co.uk/maps?ie=UTF-8&q=Grange+St+Paul's+Hot
 el&fb=1&gl=uk&hq=Grange+St+Paul's+Hotel&hnear=Grange+St+Paul's+Hotel&c
 id=17748328251300693316&ei=sgN7U5vPF6nH7Abev4DgAQ&sqi=2&ved=0CLUBEPwSM
 Ak
URL:https://maps.google.co.uk/maps?ie=UTF-8&q=Grange+St+Paul's+Hotel&f
 b=1&gl=uk&hq=Grange+St+Paul's+Hotel&hnear=Grange+St+Paul's+Hotel&cid=1
 7748328251300693316&ei=sgN7U5vPF6nH7Abev4DgAQ&sqi=2&ved=0CLUBEPwSMAk
CONTACT:0044 (0) 203 615 0390
ORGANIZER;CN="Laurence Allen":https://gomarcellusshale.com/profile/Lau
 renceAllen207
ATTACH;FMTTYPE="image/jpeg":http://storage.ning.com/topology/rest/1.0/
 file/get/97610689?profile=original
ATTENDEE;ROLE=REQ-PARTICIPANT;PARTSTAT=ACCEPTED;RSVP=TRUE;CN="Laurence
  Allen":https://gomarcellusshale.com/profile/LaurenceAllen207
END:VEVENT
END:VCALENDAR
