BEGIN:VCALENDAR
PRODID:NingEventWidget-v1
VERSION:2.0
METHOD:PUBLISH
BEGIN:VTIMEZONE
TZID:Pacific/Midway
X-LIC-LOCATION:Pacific/Midway
BEGIN:STANDARD
TZOFFSETFROM:-1100
TZOFFSETTO:-1100
TZNAME:SST
DTSTART:19700101T000000
END:STANDARD
END:VTIMEZONE
BEGIN:VEVENT
UID:2274639:Event:470904
DTSTAMP:20260420T165218Z
SUMMARY:Exploration, Production, Processing, 2013 (EPP)- The Internati
 onal Exhibition & Forum
DESCRIPTION:Exploration, Production, Processing 2013 (EPP) – The Int
 ernational Exhibition & Forum\n \nDate: 18-20 November 2013\n \nLoca
 tion: All-Russian Exhibition Center, Moscow, Russia\n \nOverview:\n 
 \nExploration, Production & Processing Russia 2013 (EPP) is organised 
 by the Ministry of Energy of Russia with State Unitary Enterprise “M
 oskva” and dmg::events as co-organisers.\n \nHeld under the patrona
 ge of the Ministry of Energy of the Russian Federation, Exploration Pr
 oduction Processing 2013 will bring together an unprecedented gatherin
 g of Russian and international energy leaders, government ministers, r
 egional governors and technology/engineering executives to examine maj
 or cooperation and partnership opportunities in the Russian hydrocarbo
 ns industry.\n                         \nThis
  three day gathering, under the direct patronage of Minister Alexander
  Novak, is being held as a follow-up to the Gas Exporting Countries Fo
 rum meeting being hosted in Moscow during July 2013 by President Vladi
 mir Putin.\n \nConfirmed speakers include:\n \n\nAlexander Novak, Mi
 nister, Ministry of      Energy of the Russian Federation\nDenis K
 hramov, Deputy Minister, Ministry      of Natural Resources &   
    Environment of the Russian Federation\nRon Cochrane, Vice Preside
 nt, Shell\nAndy Ralph, Executive Director, Fluor\nValery Yazev,    
    President, Russian Gas Society\nGenadiy Shmal, President, Union o
 f Oil      & Gas Producers of the Russian Federation\n\n \nThis e
 xclusive event will cover the most burning issues of today for Russian
  and international oil and gas industry, with the emphasis on:\n \n\n
 Changing global energy landscape and role of Russia in global energy s
 ecurity\nOpportunities for investments and investment climate, what ar
 e the criteria for IOCs to invest and explore\nFuture strategies and p
 lans for the Government and operators in the sector\nTaxation and lega
 l regimes and new developments towards transparency\nRegional investme
 nt programmes – Governors will present to international investors th
 eir strategies on creating the most favourable investment climate and 
 describing the existing and potential investment opportunities\nWorksh
 op organised by the Ministry of Energy – how to become a supplier fo
 r State oil and gas producing companies operating in Russia\nDevelopme
 nt of LNG and increasing LNG capacities in the Country\nDownstream and
  refining sector – how competitive Russia is and what needs to be do
 ne to be on top of the game?\nDevelopment of unconventional oil and ga
 s resources, using international experience\nHR and HSE (Health, Safet
 y and Environment) Issues\n\n \nFor further information, visit http:/
 /www.epp-expo.com/en   or contact Laurence Allen, Marketing Manager\
 n \nEmail: laurenceallen@dmgevents.com\n \nCall: +44 (0) 203 615 039
 0\n \nFax: +44 (0) 203 615 0679\n\nFor more information visit https:/
 /gomarcellusshale.com/events/exploration-production-processing-2013-ep
 p-the-international-1
DTSTART;TZID=Pacific/Midway:20131118T130000
DTEND;TZID=Pacific/Midway:20131120T180000
CATEGORIES:exhibition
LOCATION:All-Russian Exhibition Center, Moscow
WEBSITE:http://www.epp-expo.com/en/
URL:http://www.epp-expo.com/en/
CONTACT:+44 (0) 203 615 0390
ORGANIZER;CN="Laurence Allen":https://gomarcellusshale.com/profile/Lau
 renceAllen512
ATTACH;FMTTYPE="image/jpeg":http://storage.ning.com/topology/rest/1.0/
 file/get/97604405?profile=original
ATTENDEE;ROLE=REQ-PARTICIPANT;PARTSTAT=ACCEPTED;RSVP=TRUE;CN="Laurence
  Allen":https://gomarcellusshale.com/profile/LaurenceAllen512
END:VEVENT
END:VCALENDAR
