BEGIN:VCALENDAR
PRODID:NingEventWidget-v1
VERSION:2.0
METHOD:PUBLISH
BEGIN:VTIMEZONE
TZID:Pacific/Midway
X-LIC-LOCATION:Pacific/Midway
BEGIN:STANDARD
TZOFFSETFROM:-1100
TZOFFSETTO:-1100
TZNAME:SST
DTSTART:19700101T000000
END:STANDARD
END:VTIMEZONE
BEGIN:VEVENT
UID:2274639:Event:304785
DTSTAMP:20260423T152531Z
SUMMARY:Financial Considerations and Shale Gas Development
DESCRIPTION:Penn State Cooperative Extension will be holding a worksho
 p, “Financial Considerations and Shale Gas Development” on Wednesd
 ay, June 27th from 6:30 to 9:00 PM at the Cumberland Township Office, 
 100 Municipal Rd., Carmichaels, PA  15320.\n \nSpeakers include Exte
 nsion, CPA, legal and financial management experts who will discuss th
 e strategies for financial planning.  Topics will include the Marcell
 us market economics, financial and tax arrangements to optimize retain
 ed income, and estate and investment planning. Scenarios will be provi
 ded to panel members to provide suggestions, solutions and points to p
 onder.\n \nRegistration is required by registering online at http://a
 gsci.psu.edu/shale-financial/carmichaels   or by calling 877-489-139
 8.  There will be a $10 fee per person for the event. \nParticipants
  will have a greater understanding of the financial issues and plannin
 g necessary following the drilling of a gas well.   This program is 
 intended to inform you of the needs to address as a landowner with pro
 perty held within the Marcellus shale after signing a lease, and it is
  open to the public.\n \nPenn State encourages persons with disabilit
 ies to participate in its programs and activities.  If you anticipate
  needing special accommodations or have questions about the physical a
 ccess provided, please Jon Laughner at 724-774-3003 in advance of your
  participation or visit.\n\nFor more information visit https://gomarce
 llusshale.com/events/financial-considerations-and-shale-gas-developmen
 t
DTSTART;TZID=Pacific/Midway:20120627T183000
DTEND;TZID=Pacific/Midway:20120627T210000
CATEGORIES:"educational/informational"
LOCATION:Cumberland Township Office, Carmichaels, PA
WEBSITE:http://agsci.psu.edu/shale-financial/carmichaels
URL:http://agsci.psu.edu/shale-financial/carmichaels
CONTACT:724-774-3003
ORGANIZER;CN="Jon Laughner":https://gomarcellusshale.com/profile/JonLa
 ughner
ATTACH;FMTTYPE="image/jpeg":
ATTENDEE;ROLE=REQ-PARTICIPANT;PARTSTAT=ACCEPTED;RSVP=TRUE;CN="Jon Laug
 hner":https://gomarcellusshale.com/profile/JonLaughner
END:VEVENT
END:VCALENDAR
