BEGIN:VCALENDAR
PRODID:NingEventWidget-v1
VERSION:2.0
METHOD:PUBLISH
BEGIN:VTIMEZONE
TZID:Pacific/Midway
X-LIC-LOCATION:Pacific/Midway
BEGIN:STANDARD
TZOFFSETFROM:-1100
TZOFFSETTO:-1100
TZNAME:SST
DTSTART:19700101T000000
END:STANDARD
END:VTIMEZONE
BEGIN:VEVENT
UID:2274639:Event:474520
DTSTAMP:20260419T185908Z
SUMMARY:FrackNation Screening
DESCRIPTION:A free screening of the pro shale development FrackNation 
 will be held August 10th at Yellow Creek Theatre 311 S Main Street Pol
 and OH.\nThe venue sits behind the Village Pantry at 222 South Main St
 reet (Rte 170) Poland OH.\n222 South Main Street is on Rte 170 South o
 f Rte 224. If you map quest or google the address you will get a bette
 r idea of the location. If you bring up a satellite image you'll get a
 n even better picture. This will also show you all the parking lots ne
 ar the venue.\nWe will begin about 6:00 pm, about 7:00 pm the speakers
 /entertainment will begin. The speakers will take questions so there w
 ill be audience participation. The film will begin at dusk.\nBring law
 n chairs or blankets.\nPlease call me with questions  330-883-8891 or
  e-mail markr.mcgrail@gmail.com\n\nFor more information visit https:/
 /gomarcellusshale.com/events/fracknation-screening
DTSTART;TZID=Pacific/Midway:20130810T180000
DTEND;TZID=Pacific/Midway:20130810T230000
CATEGORIES:film, screening
LOCATION:Yellow Creek Theatre
WEBSITE:
URL:
CONTACT:330-883-8891
ORGANIZER;CN="Mark McGrail":https://gomarcellusshale.com/profile/MarkM
 cGrail757
ATTACH;FMTTYPE="image/jpeg":
ATTENDEE;ROLE=REQ-PARTICIPANT;PARTSTAT=ACCEPTED;RSVP=TRUE;CN=MJ:https:
 //gomarcellusshale.com/profile/MJ713
ATTENDEE;ROLE=REQ-PARTICIPANT;PARTSTAT=ACCEPTED;RSVP=TRUE;CN="Mark McG
 rail":https://gomarcellusshale.com/profile/MarkMcGrail757
END:VEVENT
END:VCALENDAR
