BEGIN:VCALENDAR
PRODID:NingEventWidget-v1
VERSION:2.0
METHOD:PUBLISH
BEGIN:VTIMEZONE
TZID:Pacific/Midway
X-LIC-LOCATION:Pacific/Midway
BEGIN:STANDARD
TZOFFSETFROM:-1100
TZOFFSETTO:-1100
TZNAME:SST
DTSTART:19700101T000000
END:STANDARD
END:VTIMEZONE
BEGIN:VEVENT
UID:2274639:Event:53197
DTSTAMP:20260425T014218Z
SUMMARY:FracTracker Training - Tracking and Mapping Marcellus Data
DESCRIPTION:Hosted by the Center for Healthy Environments and Communit
 ies (CHEC) of the University of Pittsburgh Graduate School of Public H
 ealth - During this training, CHEC will introduce participants to Frac
 Tracker, a combination of an interactive blog (http://fractracker.org)
  and the DataTool (http://data.fractracker.org), that is serving as a 
 vital data-sharing tool in the Marcellus Shale play and beyond.\n\nFre
 e to attend. Parking is free. Permits will be provided upon arrival. T
 he agenda and additional meeting specifics will be sent to registered 
 attendees prior to the training.\n\nImportant -- In order to fully int
 eract with FracTracker’s DataTool during the training, you must be r
 egistered with the DataTool. It is free to register, but please do thi
 s online as soon as possible. If you run into problems registering for
  the tool please contact: support@rhizalabs.com.\n\nIn addition to reg
 istering for the DataTool online, please also register to attend the t
 raining by emailing me at slm75@pitt.edu as soon as possible. We have 
 limited space in the present venue, so don't delay!\n\nIn that email, 
 please let me know whether CHEC can distribute your contact informatio
 n to all attendees of the training for networking purposes. Once we re
 ceive your RSVP we will send you a confirmation email with more detail
 s about the training.\n\nFor more information visit https://gomarcellu
 sshale.com/events/fractracker-training-tracking
DTSTART;TZID=Pacific/Midway:20101025T130000
DTEND;TZID=Pacific/Midway:20101025T160000
CATEGORIES:training, meeting
LOCATION:TBD
WEBSITE:http://fractracker.org
URL:http://fractracker.org
CONTACT:412-624-9379
ORGANIZER;CN="Sam Malone":https://gomarcellusshale.com/profile/SamMalo
 ne
ATTACH;FMTTYPE="image/jpeg":http://storage.ning.com/topology/rest/1.0/
 file/get/97588196?profile=original
ATTENDEE;ROLE=REQ-PARTICIPANT;PARTSTAT=ACCEPTED;RSVP=TRUE;CN="Sam Malo
 ne":https://gomarcellusshale.com/profile/SamMalone
END:VEVENT
END:VCALENDAR
