BEGIN:VCALENDAR
PRODID:NingEventWidget-v1
VERSION:2.0
METHOD:PUBLISH
BEGIN:VTIMEZONE
TZID:Pacific/Midway
X-LIC-LOCATION:Pacific/Midway
BEGIN:STANDARD
TZOFFSETFROM:-1100
TZOFFSETTO:-1100
TZNAME:SST
DTSTART:19700101T000000
END:STANDARD
END:VTIMEZONE
BEGIN:VEVENT
UID:2274639:Event:53346
DTSTAMP:20260425T010824Z
SUMMARY:Free Gas Estate Planning Workshop for Royalty Owners
DESCRIPTION:Join Attorney Dale A. Tice for an informative workshop to 
 learn how royalty owners can:\n-Limit Taxes\n-Understand Family Limite
 d Partnerships and LLCs\n-Preserve Mineral Rights for Future Generatio
 ns\nRegister by calling 1-800-401-4552 or online at www.pagaslaw.net\n
 \nFor more information visit https://gomarcellusshale.com/events/free-
 gas-estate-planning
DTSTART;TZID=Pacific/Midway:20101113T100000
DTEND;TZID=Pacific/Midway:20101113T120000
CATEGORIES:free, royalty, "owners'", workshop
LOCATION:Yesterday's in Renovo
WEBSITE:http://www.pagaslaw.net
URL:http://www.pagaslaw.net
CONTACT:1-800-401-4552
ORGANIZER:Marshall, Parker & Associates
ATTACH;FMTTYPE="image/jpeg":
ATTENDEE;ROLE=REQ-PARTICIPANT;PARTSTAT=ACCEPTED;RSVP=TRUE;CN="Devon Ta
 rner":https://gomarcellusshale.com/profile/DevonTarner
ATTENDEE;ROLE=REQ-PARTICIPANT;PARTSTAT=ACCEPTED;RSVP=TRUE;CN="Melissa 
 Bottorf":https://gomarcellusshale.com/profile/MelissaBottorf
END:VEVENT
END:VCALENDAR
