BEGIN:VCALENDAR
PRODID:NingEventWidget-v1
VERSION:2.0
METHOD:PUBLISH
BEGIN:VTIMEZONE
TZID:Pacific/Midway
X-LIC-LOCATION:Pacific/Midway
BEGIN:STANDARD
TZOFFSETFROM:-1100
TZOFFSETTO:-1100
TZNAME:SST
DTSTART:19700101T000000
END:STANDARD
END:VTIMEZONE
BEGIN:VEVENT
UID:2274639:Event:473226
DTSTAMP:20260419T204851Z
SUMMARY:Free Landowner Seminar on Royalty Deductions: Is Your Gas Comp
 any Taking Deductions Not Authorized by Your Gas Lease?
DESCRIPTION:I will be presenting a detailed PowerPoint presentation wi
 th Attorney Frank Karam and Attorney Jerry Karam at the Towanda Fire H
 all addressing royalty deduction issues, including the \"Market Enhanc
 ement Clause\" and other royalty calculation language.\nWe believe tha
 t Chesapeake, and potentially other gas companies, are taking improp
 er royalty \"deductions\" or post-production costs from landowner's ro
 yalty checks.  These \"deductions\" can be substantial and continue t
 o grow with each royalty payment.\nAttend the Towanda Seminar to lear
 n more about improper royalty deductions and potential claims against 
 gas companies for improper royalty payments.\nReserve your space now a
 t: - http://www.pagasleaseattorney.com/free-seminars.html\n\nFor more
  information visit https://gomarcellusshale.com/events/free-landowner-
 seminar-on-royalty-deductions-is-your-gas-compan-1
DTSTART;TZID=Pacific/Midway:20130717T183000
DTEND;TZID=Pacific/Midway:20130717T200000
CATEGORIES:free, seminar
LOCATION:Towanda Fire Hall
WEBSITE:http://www.pagasleaseattorney.com/free-seminars.html
URL:http://www.pagasleaseattorney.com/free-seminars.html
CONTACT:570-307-0702
ORGANIZER:Douglas A. Clark, Esq. - The Clark Law Firm, PC
ATTACH;FMTTYPE="image/jpeg":http://storage.ning.com/topology/rest/1.0/
 file/get/97602204?profile=original
ATTENDEE;ROLE=REQ-PARTICIPANT;PARTSTAT=ACCEPTED;RSVP=TRUE;CN="Douglas 
 A. Clark, Esq.":https://gomarcellusshale.com/profile/DouglasAClarkEsq4
 13
END:VEVENT
END:VCALENDAR
