BEGIN:VCALENDAR
PRODID:NingEventWidget-v1
VERSION:2.0
METHOD:PUBLISH
BEGIN:VTIMEZONE
TZID:Pacific/Midway
X-LIC-LOCATION:Pacific/Midway
BEGIN:STANDARD
TZOFFSETFROM:-1100
TZOFFSETTO:-1100
TZNAME:SST
DTSTART:19700101T000000
END:STANDARD
END:VTIMEZONE
BEGIN:VEVENT
UID:2274639:Event:412817
DTSTAMP:20260420T064548Z
SUMMARY:Free Landowner Seminar on Royalty Deductions: Is Your Gas Comp
 any Taking Deductions Not Authorized by Your Gas Lease?
DESCRIPTION:I will be presenting a detailed PowerPoint presentation wi
 th Attorney Frank Karam and Attorney Jerry Karam at the Tunkhannock Mi
 ddle School addressing royalty deduction issues, including the \"Marke
 t Enhancement Clause\" and other royalty calculation language.\nWe bel
 ieve that Chesapeake, and potentially other gas companies, are takin
 g improper royalty \"deductions\" or post-production costs from landow
 ner's royalty checks.  These \"deductions\" can be substantial and co
 ntinue to grow with each royalty payment.\nAttend the Tunkhannock Semi
 nar to learn more about improper royalty deductions and potential clai
 ms against gas companies for improper royalty payments.\nReserve your 
 space now at: - http://www.pagasleaseattorney.com/free-seminars.html\
 n\nFor more information visit https://gomarcellusshale.com/events/free
 -landowner-seminar-on-royalty-deductions-is-your-gas-company
DTSTART;TZID=Pacific/Midway:20130321T180000
DTEND;TZID=Pacific/Midway:20130321T203000
CATEGORIES:free, seminar
LOCATION:Tunkhannock Middle School
WEBSITE:http://www.pagasleaseattorney.com/free-seminars.html
URL:http://www.pagasleaseattorney.com/free-seminars.html
CONTACT:570-307-0702
ORGANIZER:Douglas A. Clark, Esq. - The Clark Law Firm, PC
ATTACH;FMTTYPE="image/jpeg":http://storage.ning.com/topology/rest/1.0/
 file/get/97602204?profile=original
ATTENDEE;ROLE=REQ-PARTICIPANT;PARTSTAT=ACCEPTED;RSVP=TRUE;CN="Douglas 
 A. Clark, Esq.":https://gomarcellusshale.com/profile/DouglasAClarkEsq4
 13
END:VEVENT
END:VCALENDAR
