BEGIN:VCALENDAR
PRODID:NingEventWidget-v1
VERSION:2.0
METHOD:PUBLISH
BEGIN:VTIMEZONE
TZID:Pacific/Midway
X-LIC-LOCATION:Pacific/Midway
BEGIN:STANDARD
TZOFFSETFROM:-1100
TZOFFSETTO:-1100
TZNAME:SST
DTSTART:19700101T000000
END:STANDARD
END:VTIMEZONE
BEGIN:VEVENT
UID:2274639:Event:752229
DTSTAMP:20260425T095921Z
SUMMARY:Free Oil & Gas Seminar
DESCRIPTION:Free Oil & Gas Seminar - Washington County, Pennsylvania\n
 If you own oil & gas rights, there is a vault of cash under your feet!
 \nThe Seminar Will Cover:\n- The process of selling oil & gas rights\n
 - What if my oil & gas rights are leased?\n- What are my oil & gas rig
 hts worth?\n- When will my oil & gas rights get drilled?\n- Evaluating
  legitimate buyers\n- How buyers value oil & gas rights\n- Selling far
 mland or hunting land\n- Tax Free1031 Exchange\n10/11 or 10/13\n7:00 P
 .M.\nMarriott Courtyard 1800 Tanger Boulevard, Washington, Pennsylvani
 a 15301\nSpace is limited! Please call to reserve your seat 724-933-13
 11\n\nFor more information visit https://gomarcellusshale.com/events/f
 ree-oil-gas-seminar-3
DTSTART;TZID=Pacific/Midway:20161013T190000
DTEND;TZID=Pacific/Midway:20161013T200000
CATEGORIES:free, oil, and, gas, seminar
LOCATION:Marriott Courtyard 1800 Tanger Boulevard, Washington, Pennsyl
 vania 15301
WEBSITE:
URL:
CONTACT:
ORGANIZER;CN="Becky Moore":https://gomarcellusshale.com/profile/BeckyM
 oore
ATTACH;FMTTYPE="image/jpeg":http://storage.ning.com/topology/rest/1.0/
 file/get/97619065?profile=original
ATTENDEE;ROLE=REQ-PARTICIPANT;PARTSTAT=ACCEPTED;RSVP=TRUE;CN="Becky Mo
 ore":https://gomarcellusshale.com/profile/BeckyMoore
END:VEVENT
END:VCALENDAR
