BEGIN:VCALENDAR
PRODID:NingEventWidget-v1
VERSION:2.0
METHOD:PUBLISH
BEGIN:VTIMEZONE
TZID:Pacific/Midway
X-LIC-LOCATION:Pacific/Midway
BEGIN:STANDARD
TZOFFSETFROM:-1100
TZOFFSETTO:-1100
TZNAME:SST
DTSTART:19700101T000000
END:STANDARD
END:VTIMEZONE
BEGIN:VEVENT
UID:2274639:Event:727759
DTSTAMP:20260425T011846Z
SUMMARY:Free Oil & Gas Seminar
DESCRIPTION:Join us for a free seminar to learn more about selling or 
 buying oil, gas and minerals.\nCX-Energy is a licensed real estate bro
 ker based in Pittsburgh, Pennsylvania specializing in oil and gas sale
 s and leasing services. We do not buy oil and gas rights; rather, we r
 epresent owners to get them the highest price per acre through selling
  or leasing.\nWe believe that selling or leasing oil, gas and minerals
  should be handled with the same honesty, transparency and attention t
 o detail as selling any other real estate. We know the market value of
  oil, gas and minerals in Pennsylvania, Ohio and West Virginia and hav
 e the tools to get our clients a superior deal versus what they can fi
 nd on their own.\nwww.cx-energy.com\nPlease register by calling 724-93
 3-1311 or email landowners@cx-energy.com\n\nFor more information visit
  https://gomarcellusshale.com/events/free-oil-gas-seminar
DTSTART;TZID=Pacific/Midway:20160426T190000
DTEND;TZID=Pacific/Midway:20160426T200000
CATEGORIES:free, oil, and, gas, seminar
LOCATION:Holiday Inn Express
WEBSITE:http://cx-energy.com/ogm-seminars/
URL:http://cx-energy.com/ogm-seminars/
CONTACT:724-933-1311
ORGANIZER;CN="Becky Moore":https://gomarcellusshale.com/profile/BeckyM
 oore
ATTACH;FMTTYPE="image/jpeg":http://storage.ning.com/topology/rest/1.0/
 file/get/97617954?profile=original
ATTENDEE;ROLE=REQ-PARTICIPANT;PARTSTAT=ACCEPTED;RSVP=TRUE;CN="Becky Mo
 ore":https://gomarcellusshale.com/profile/BeckyMoore
END:VEVENT
END:VCALENDAR
