BEGIN:VCALENDAR
PRODID:NingEventWidget-v1
VERSION:2.0
METHOD:PUBLISH
BEGIN:VTIMEZONE
TZID:Pacific/Midway
X-LIC-LOCATION:Pacific/Midway
BEGIN:STANDARD
TZOFFSETFROM:-1100
TZOFFSETTO:-1100
TZNAME:SST
DTSTART:19700101T000000
END:STANDARD
END:VTIMEZONE
BEGIN:VEVENT
UID:2274639:Event:69645
DTSTAMP:20260425T035431Z
SUMMARY:Free Royalty Owners' Workshop Set for Clinton County
DESCRIPTION:Free Workshop for Royalty Owners\nLearn how to protect you
 rself and your land.\nJoin our speakers:\nJeffrey Kern, MRP, ASA, Stat
 e Certified General Appraiser\nJay Guyer, CFP, M&T Investment Group\nE
 d Barone, Wealth Advisor, M&T Investment Group\nDale A. Tice, Gas Law 
 Attorney, Marshall, Parker & Associates\n\nFor more information visit 
 https://gomarcellusshale.com/events/free-royalty-owners-workshop-2
DTSTART;TZID=Pacific/Midway:20110217T183000
DTEND;TZID=Pacific/Midway:20110217T200000
CATEGORIES:free, royalty, "owners'", workshop
LOCATION:Clinton Country Club
WEBSITE:http://www.pagaslaw.net
URL:http://www.pagaslaw.net
CONTACT:570-398-7603
ORGANIZER;CN="Melissa Bottorf":https://gomarcellusshale.com/profile/Me
 lissaBottorf
ATTACH;FMTTYPE="image/jpeg":
ATTENDEE;ROLE=REQ-PARTICIPANT;PARTSTAT=ACCEPTED;RSVP=TRUE;CN="Melissa 
 Bottorf":https://gomarcellusshale.com/profile/MelissaBottorf
END:VEVENT
END:VCALENDAR
