BEGIN:VCALENDAR
PRODID:NingEventWidget-v1
VERSION:2.0
METHOD:PUBLISH
BEGIN:VTIMEZONE
TZID:Pacific/Midway
X-LIC-LOCATION:Pacific/Midway
BEGIN:STANDARD
TZOFFSETFROM:-1100
TZOFFSETTO:-1100
TZNAME:SST
DTSTART:19700101T000000
END:STANDARD
END:VTIMEZONE
BEGIN:VEVENT
UID:2274639:Event:73811
DTSTAMP:20260425T051044Z
SUMMARY:Free Royalty Owners' Workshop
DESCRIPTION:Join Attorney Dale A. Tice from Marshall, Parker & Associa
 tes to learn how:\n-To Stay In Control of Your Royalities & Your Land\
 n-To Protect Your Family From\n      Long Term Care Costs - Taxes
  - Liability\n-To Use Family Limited Partnerships, LLCs and Trusts\n\n
 For more information visit https://gomarcellusshale.com/events/free-ro
 yalty-owners-workshop-3
DTSTART;TZID=Pacific/Midway:20110329T183000
DTEND;TZID=Pacific/Midway:20110329T200000
CATEGORIES:free, royalty, "owners'", workshop
LOCATION:Ally Bell's Restaurant in Dushore
WEBSITE:http://www.pagaslaw.net
URL:http://www.pagaslaw.net
CONTACT:1-800-401-4552
ORGANIZER;CN="Melissa Bottorf":https://gomarcellusshale.com/profile/Me
 lissaBottorf
ATTACH;FMTTYPE="image/jpeg":
ATTENDEE;ROLE=REQ-PARTICIPANT;PARTSTAT=ACCEPTED;RSVP=TRUE;CN="Melissa 
 Bottorf":https://gomarcellusshale.com/profile/MelissaBottorf
END:VEVENT
END:VCALENDAR
