BEGIN:VCALENDAR
PRODID:NingEventWidget-v1
VERSION:2.0
METHOD:PUBLISH
BEGIN:VTIMEZONE
TZID:Pacific/Midway
X-LIC-LOCATION:Pacific/Midway
BEGIN:STANDARD
TZOFFSETFROM:-1100
TZOFFSETTO:-1100
TZNAME:SST
DTSTART:19700101T000000
END:STANDARD
END:VTIMEZONE
BEGIN:VEVENT
UID:2274639:Event:383502
DTSTAMP:20260420T101503Z
SUMMARY:Free Seminar: Royalty Deduction Issues - Do I Have a Claim Aga
 inst the Gas Company?
DESCRIPTION:Attorney Doug Clark from The Clark Law Firm and host of th
 e weekly radio show \"All Things Marcellus\" will lead a detailed Powe
 rPoint presentation to educate landowners on Royalty Issues, Royalty D
 eductions under the \"Market Enhancement Clause\", Division Orders, an
 d much more.Â \n\nAttorneys Doug Clark, Jerry Karam and Frank Karam wi
 ll discuss their plan for bringing legal actions on behalf of landowne
 rs against gas companies for improper royalty payments.\n\nLandowners 
 who plan to attend are strongly encouraged to pre-register online at:Â
   www.pagasleaseattorney.com or www.pipelineattorney.com or contact Th
 e Clark Law Firm, PC at 570-307-0702 to guarantee seating.\n\nFor more
  information visit https://gomarcellusshale.com/events/free-seminar-ro
 yalty-deduction-issues-do-i-have-a-claim-against
DTSTART;TZID=Pacific/Midway:20130109T183000
DTEND;TZID=Pacific/Midway:20130109T200000
CATEGORIES:free, landowner, royalty, seminar
LOCATION:Wyalusing Jr. Sr. High School
WEBSITE:http://www.pagasleaseattorney.com/free-seminars.html
URL:http://www.pagasleaseattorney.com/free-seminars.html
CONTACT:570-307-0702
ORGANIZER;CN="Douglas A. Clark, Esq.":https://gomarcellusshale.com/pro
 file/DouglasAClarkEsq413
ATTACH;FMTTYPE="image/jpeg":http://storage.ning.com/topology/rest/1.0/
 file/get/97600937?profile=original
ATTENDEE;ROLE=REQ-PARTICIPANT;PARTSTAT=ACCEPTED;RSVP=TRUE;CN="Patrick 
 Killian":https://gomarcellusshale.com/profile/PatrickKillian
ATTENDEE;ROLE=REQ-PARTICIPANT;PARTSTAT=ACCEPTED;RSVP=TRUE;CN="John Com
 erford":https://gomarcellusshale.com/profile/JohnComerford
ATTENDEE;ROLE=REQ-PARTICIPANT;PARTSTAT=ACCEPTED;RSVP=TRUE;CN="John Har
 rison":https://gomarcellusshale.com/profile/JohnHarrison
ATTENDEE;ROLE=REQ-PARTICIPANT;PARTSTAT=ACCEPTED;RSVP=TRUE;CN="Donald J
  Neilson Jr":https://gomarcellusshale.com/profile/djnjr
ATTENDEE;ROLE=REQ-PARTICIPANT;PARTSTAT=ACCEPTED;RSVP=TRUE;CN="Ben Dziu
 ba":https://gomarcellusshale.com/profile/BenDziuba
ATTENDEE;ROLE=REQ-PARTICIPANT;PARTSTAT=ACCEPTED;RSVP=TRUE;CN="daniel c
 ohen":https://gomarcellusshale.com/profile/danielcohen
ATTENDEE;ROLE=REQ-PARTICIPANT;PARTSTAT=ACCEPTED;RSVP=TRUE;CN="Douglas 
 A. Clark, Esq.":https://gomarcellusshale.com/profile/DouglasAClarkEsq4
 13
ATTENDEE;ROLE=REQ-PARTICIPANT;PARTSTAT=TENTATIVE;RSVP=TRUE;CN=bobt:htt
 ps://gomarcellusshale.com/profile/roberttaroli
ATTENDEE;ROLE=REQ-PARTICIPANT;PARTSTAT=TENTATIVE;RSVP=TRUE;CN="Evelyn 
 Koch":https://gomarcellusshale.com/profile/EvelynKoch
ATTENDEE;ROLE=REQ-PARTICIPANT;PARTSTAT=TENTATIVE;RSVP=TRUE;CN="True Ma
 gick":https://gomarcellusshale.com/profile/TrueMagick
ATTENDEE;ROLE=REQ-PARTICIPANT;PARTSTAT=TENTATIVE;RSVP=TRUE;CN=Golddigg
 er:https://gomarcellusshale.com/profile/RobertDavis636
END:VEVENT
END:VCALENDAR
