BEGIN:VCALENDAR
PRODID:NingEventWidget-v1
VERSION:2.0
METHOD:PUBLISH
BEGIN:VTIMEZONE
TZID:Pacific/Midway
X-LIC-LOCATION:Pacific/Midway
BEGIN:STANDARD
TZOFFSETFROM:-1100
TZOFFSETTO:-1100
TZNAME:SST
DTSTART:19700101T000000
END:STANDARD
END:VTIMEZONE
BEGIN:VEVENT
UID:2274639:Event:266298
DTSTAMP:20260424T070053Z
SUMMARY:Gas Producing Property
DESCRIPTION:LIVE AUCTION\nLog Home & Farmette\nGas Producing Property\
 nSATURDAY, MAY 5 ● NOON\n \n Auction Location: Troy Fire Dept. Con
 ference Hall, 88 Fire House Dr., Troy, PA 16947\n \nPROPERTY PREVIEWS
 :  Saturdays, April 21 & 28 ● 10 am - 2 pm; Sundays, April 22 & 29 
 ● 10 am - 2 pm\nFriday, May 4 ● Noon- 4 pm\n \nParcel #1\n• Pri
 vate 45 acre farmette unitized into two horizontal gas well units\n•
  Land is a balance of pasture and woods\n• Cozy eight-room log home 
 with 6-year-old roof, home was built in 1985\n• Two-story wood frame
  barn with hayloft and two horse stalls\n• Detached two-car garage\n
 • Both wells are producing, paying royalties and presently working a
 t only minimal capacity\n• One of the two wells is capable of quadru
 pling in production\n• All oil, gas, carbon and subsurface rights, w
 ith paying gas lease, convey\n• Wells owned by Tailsman Energy of Al
 berta, Canada\n• Solid investment opportunity\n• True numbers from
  royalty payments available to qualified  parties\n• No well pads o
 n property\n \nParcel #2\nThis commercial building on 8.5 acres lies 
 along Rte. 549 in the village of Daggett in Tioga County. The 4,500-sq
 uare-foot structure is currently used as an auto service garage. The p
 roperty has a trout stream and a pond. A portion of this parcel is in 
 a gas well production unit that has not gone online as of yet.\n\nFor 
 more information visit https://gomarcellusshale.com/events/gas-produci
 ng-property
DTSTART;TZID=Pacific/Midway:20120505T120000
DTEND;TZID=Pacific/Midway:20120505T130000
CATEGORIES:live, auction
LOCATION:Troy Fire Dept. Conference Hall
WEBSITE:http://www.jelliffauctiongroup.com/property.aspx?item=00028&ag
 ency=37046
URL:http://www.jelliffauctiongroup.com/property.aspx?item=00028&agency
 =37046
CONTACT:570-835-4214
ORGANIZER:Randy Jelliff
ATTACH;FMTTYPE="image/jpeg":http://storage.ning.com/topology/rest/1.0/
 file/get/97595607?profile=original
ATTENDEE;ROLE=REQ-PARTICIPANT;PARTSTAT=ACCEPTED;RSVP=TRUE;CN="Ashley D
 uffy":https://gomarcellusshale.com/profile/AshleyDuffy
END:VEVENT
END:VCALENDAR
