BEGIN:VCALENDAR
PRODID:NingEventWidget-v1
VERSION:2.0
METHOD:PUBLISH
BEGIN:VTIMEZONE
TZID:Pacific/Midway
X-LIC-LOCATION:Pacific/Midway
BEGIN:STANDARD
TZOFFSETFROM:-1100
TZOFFSETTO:-1100
TZNAME:SST
DTSTART:19700101T000000
END:STANDARD
END:VTIMEZONE
BEGIN:VEVENT
UID:2274639:Event:473932
DTSTAMP:20260423T092951Z
SUMMARY:Gastech 2014 Conference & Exhibition
DESCRIPTION:Gastech is the leading event for the international oil & g
 as industry and a global meeting place for energy professionals workin
 g in the natural gas cycle. The event will next take place at KINTEX 1
 , Korea from 24 – 27 March and will be hosted by Korea Gas Corporati
 on (KOGAS).\nGastech’s history dates back to 1972, when the original
  event was set up to bring together technical decision makers involved
  in LNG and LPG shipping. The event has since evolved to attract the e
 ntire supply chain of the oil & gas industry and is held every 18 mont
 hs in a different international location.\nGastech now attracts over 1
 4,000 industry commercial and technical professionals and services as 
 a showcase for over 400 exhibitors from the upstream, midstream and do
 wnstream sectors.\nGastech Conference\nA must-attend for anyone operat
 ing in the global gas industry, the Gastech conference brings the worl
 d’s professional gas community together, to understand the issues im
 pacting our business today and in the future. An important meeting pla
 ce, Gastech offers delegates face-to-face networking at the very highe
 st level. The conference features more than 120 of the industry’s mo
 st prominent speakers and representatives, and is comprised of ministe
 rial keynotes, addresses, commercial, technical and specialty presenta
 tions, question & answer sessions and panel debates.\nGastech Exhibiti
 on\nGastech has an established track record in bringing together the t
 echnical and commercial sectors to develop global business relationshi
 ps within a regional setting. Featuring over 400 international exhibit
 ors, the exhibition runs over the course of 4 days and provides dedica
 ted zones for specific sectors within the natural gas industry. A uniq
 ue meeting place for businesses across the supply chain in key sectors
 , the exhibition is the place where new suppliers, technology provider
 s and solutions are uncovered and where future project contracts and c
 ontractor deals are inked.\n\nFor more information visit https://gomar
 cellusshale.com/events/gastech-2014-conference-exhibition
DTSTART;TZID=Pacific/Midway:20140324T080000
DTEND;TZID=Pacific/Midway:20140327T173000
CATEGORIES:conference, "&", exhibition
LOCATION:KINTEX
WEBSITE:http://www.gastechkorea.com/
URL:http://www.gastechkorea.com/
CONTACT:+44 (0) 203 615 2847
ORGANIZER:Rachel Chen
ATTACH;FMTTYPE="image/jpeg":
ATTENDEE;ROLE=REQ-PARTICIPANT;PARTSTAT=ACCEPTED;RSVP=TRUE;CN="Laurence
  Allen":https://gomarcellusshale.com/profile/LaurenceAllen512
END:VEVENT
END:VCALENDAR
