BEGIN:VCALENDAR
PRODID:NingEventWidget-v1
VERSION:2.0
METHOD:PUBLISH
BEGIN:VTIMEZONE
TZID:Pacific/Midway
X-LIC-LOCATION:Pacific/Midway
BEGIN:STANDARD
TZOFFSETFROM:-1100
TZOFFSETTO:-1100
TZNAME:SST
DTSTART:19700101T000000
END:STANDARD
END:VTIMEZONE
BEGIN:VEVENT
UID:2274639:Event:22498
DTSTAMP:20260425T070718Z
SUMMARY:Geothermal Training and Certification Course
DESCRIPTION:The Pocono Northeast Resource Conservation & Development C
 ouncil has partnered with HeatSpring Learning Institute to offer an Ac
 credited Geothermal Installer Certification Course in Northeastern Pen
 nsylvania. The course is scheduled for April 12 through April 14, 2010
  in Bloomsburg, PA at the Columbia County Agricultural Center.\n\nThis
  training course is a three day comprehensive course focused on the de
 sign and installation of geothermal heating and cooling systems. The c
 ourse includes an open book exam to become an IGSHPA Accredited Geothe
 rmal Installer. The course will include the fundamentals to build a st
 rong foundation in the how and why of properly designed and installed 
 geothermal heat pump systems, advanced topics related to selecting, si
 zing, and designing a ground source heating/cooling system, a director
 y listing in both International Ground Source Heat Pump Association (I
 GSHPA) an HeatSpring Website, reference materials and collectors, 1-ye
 ar IGSHPA Membership, and hands-on training in Pipe Fusion.\n\nYou wil
 l be learning to design and install geothermal systems from the author
  of the new IGSHPA Design and Installation Manual and obtain your cred
 entials and manuals needed to be a geothermal installer. On the third 
 day of the course, an open book exam is given to meet the accreditatio
 n requirements as a geothermal installer. This course is also approved
  for Continuing Education Credits - AIA Approved - 24 HSW LU Hours.\n\
 nDuring the registration process on the HeatSpring Website – use the
  promo code = “ pocono”\n\nFor more information visit https://goma
 rcellusshale.com/events/geothermal-training-and
DTSTART;TZID=Pacific/Midway:20100412T080000
DTEND;TZID=Pacific/Midway:20100414T170000
CATEGORIES:training, course, certification, geothermal, well, driller
LOCATION:Columbia County Agricultural Center
WEBSITE:http://www.prlog.org/10537690.html
URL:http://www.prlog.org/10537690.html
CONTACT:570-282-8732
ORGANIZER:Pocono Northeast RC&D Council
ATTACH;FMTTYPE="image/jpeg":
ATTENDEE;ROLE=REQ-PARTICIPANT;PARTSTAT=ACCEPTED;RSVP=TRUE;CN="Brian Or
 am, PG":https://gomarcellusshale.com/profile/BrianOramPG
END:VEVENT
END:VCALENDAR
