BEGIN:VCALENDAR
PRODID:NingEventWidget-v1
VERSION:2.0
METHOD:PUBLISH
BEGIN:VTIMEZONE
TZID:Pacific/Midway
X-LIC-LOCATION:Pacific/Midway
BEGIN:STANDARD
TZOFFSETFROM:-1100
TZOFFSETTO:-1100
TZNAME:SST
DTSTART:19700101T000000
END:STANDARD
END:VTIMEZONE
BEGIN:VEVENT
UID:2274639:Event:171943
DTSTAMP:20260425T160328Z
SUMMARY:Getting the Waters Tested - The Marcellus Shale Factor
DESCRIPTION:This is an introduction to groundwater and private wells i
 n Northeastern Pennsylvania.  The presentation includes a summary of 
 the data in the Citizens Groundwater Database, a review of the common 
 and irregular groundwater problems in Northeastern Pennsylvania, a spe
 cific training program developed by the EPA on chain of custody proces
 s, suggestions related to baseline testing, and recommendations relate
 d to community outreach.  This program is designed for the profession
 al that may need to work with private well owners.\nThis course is bei
 ng taught by Mr. Brian Oram, Professional Geologist, and owner of B.F.
  Environmental Consultants Inc.\n\nFor more information visit https://
 gomarcellusshale.com/events/getting-the-waters-tested-the-marcellus-sh
 ale-factor
DTSTART;TZID=Pacific/Midway:20111104T090000
DTEND;TZID=Pacific/Midway:20111104T120000
CATEGORIES:training, professional
LOCATION:The Woodlands - Hosted by Wilkes University
WEBSITE:http://www.bfenvironmental.com/
URL:http://www.bfenvironmental.com/
CONTACT:570-335-1947
ORGANIZER;CN="Brian Oram, PG":https://gomarcellusshale.com/profile/Bri
 anOramPG
ATTACH;FMTTYPE="image/jpeg":http://storage.ning.com/topology/rest/1.0/
 file/get/97590380?profile=original
ATTENDEE;ROLE=REQ-PARTICIPANT;PARTSTAT=ACCEPTED;RSVP=TRUE;CN="Brian Or
 am, PG":https://gomarcellusshale.com/profile/BrianOramPG
END:VEVENT
END:VCALENDAR
